BEGIN:VCALENDAR
VERSION:2.0
PRODID:-//WIR sind Friedberg i.G. | aus der Stadt für die Stadt &amp; von Bürgerschaft mit Organisationen - ECPv6.15.20//NONSGML v1.0//EN
CALSCALE:GREGORIAN
METHOD:PUBLISH
X-ORIGINAL-URL:https://wirsindfriedberg.de
X-WR-CALDESC:Veranstaltungen für WIR sind Friedberg i.G. | aus der Stadt für die Stadt &amp; von Bürgerschaft mit Organisationen
REFRESH-INTERVAL;VALUE=DURATION:PT1H
X-Robots-Tag:noindex
X-PUBLISHED-TTL:PT1H
BEGIN:VTIMEZONE
TZID:Europe/Berlin
BEGIN:DAYLIGHT
TZOFFSETFROM:+0100
TZOFFSETTO:+0200
TZNAME:CEST
DTSTART:20230326T010000
END:DAYLIGHT
BEGIN:STANDARD
TZOFFSETFROM:+0200
TZOFFSETTO:+0100
TZNAME:CET
DTSTART:20231029T010000
END:STANDARD
BEGIN:DAYLIGHT
TZOFFSETFROM:+0100
TZOFFSETTO:+0200
TZNAME:CEST
DTSTART:20240331T010000
END:DAYLIGHT
BEGIN:STANDARD
TZOFFSETFROM:+0200
TZOFFSETTO:+0100
TZNAME:CET
DTSTART:20241027T010000
END:STANDARD
BEGIN:DAYLIGHT
TZOFFSETFROM:+0100
TZOFFSETTO:+0200
TZNAME:CEST
DTSTART:20250330T010000
END:DAYLIGHT
BEGIN:STANDARD
TZOFFSETFROM:+0200
TZOFFSETTO:+0100
TZNAME:CET
DTSTART:20251026T010000
END:STANDARD
END:VTIMEZONE
BEGIN:VEVENT
DTSTART;TZID=Europe/Berlin:20240304T000000
DTEND;TZID=Europe/Berlin:20240304T235959
DTSTAMP:20260424T202633
CREATED:20240123T104444Z
LAST-MODIFIED:20240304T104417Z
UID:9082-1709510400-1709596799@wirsindfriedberg.de
SUMMARY:📰 Abstimmungen OEK Bachern Umfragen (Bürgerbeteiligung)
DESCRIPTION:http://umfragen.friedberg-bachern.de
URL:https://wirsindfriedberg.de/veranstaltungen/%f0%9f%93%b0-abstimmungen-oek-bachern-umfragen-buergerbeteiligung-8
LOCATION:Ortsteil Bachern – Stadt Friedberg in Bayern\, Georgstraße\, 86316 Friedberg\, Deutschland
END:VEVENT
BEGIN:VEVENT
DTSTART;TZID=Europe/Berlin:20240304T000000
DTEND;TZID=Europe/Berlin:20240304T235959
DTSTAMP:20260424T202633
CREATED:20240124T104652Z
LAST-MODIFIED:20240304T104416Z
UID:9121-1709510400-1709596799@wirsindfriedberg.de
SUMMARY:📰 Vorschläge OEK Bachern Wünsche (Bürgerbeteiligung)
DESCRIPTION:http://wuensche.friedberg-bachern.de
URL:https://wirsindfriedberg.de/veranstaltungen/%f0%9f%93%b0-vorschlaege-oek-bachern-wuensche-buergerbeteiligung-8
LOCATION:Ortsteil Bachern – Stadt Friedberg in Bayern\, Georgstraße\, 86316 Friedberg\, Deutschland
END:VEVENT
BEGIN:VEVENT
DTSTART;TZID=Europe/Berlin:20240304T000000
DTEND;TZID=Europe/Berlin:20240304T235959
DTSTAMP:20260424T202633
CREATED:20240124T104652Z
LAST-MODIFIED:20240304T104428Z
UID:9122-1709510400-1709596799@wirsindfriedberg.de
SUMMARY:Papiertonne in Friedberg
DESCRIPTION:
URL:https://wirsindfriedberg.de/veranstaltungen/papiertonne-in-friedberg-2
LOCATION:Friedberg; Neuer Postweg
END:VEVENT
BEGIN:VEVENT
DTSTART;TZID=Europe/Berlin:20240304T071500
DTEND;TZID=Europe/Berlin:20240304T153000
DTSTAMP:20260424T202633
CREATED:20240123T104444Z
LAST-MODIFIED:20240304T104417Z
UID:9081-1709536500-1709566200@wirsindfriedberg.de
SUMMARY:🧒 Kindergarten Betreuung & Spielgruppen Bachern (Kinderangebote)
DESCRIPTION:https://www.pfarreiengemeinschaft-ottmaring.de/haus-des-kindes-st-hedwig/
URL:https://wirsindfriedberg.de/veranstaltungen/%f0%9f%a7%92-kindergarten-betreuung-spielgruppen-eisenbachtal-kinderangebote-36
LOCATION:Kindergarten St. Hedwig Bachern\, Steckstraße 2B\, 86316 Friedberg\, Deutschland
END:VEVENT
BEGIN:VEVENT
DTSTART;TZID=Europe/Berlin:20240304T080000
DTEND;TZID=Europe/Berlin:20240304T120000
DTSTAMP:20260424T202633
CREATED:20240125T104748Z
LAST-MODIFIED:20240304T104416Z
UID:9220-1709539200-1709553600@wirsindfriedberg.de
SUMMARY:🚐 Pilot Bürgerbus Ried mit OEK Bachern (Lebensmittel\, Post\, Bank\, Arzt\, Weißwurst)
DESCRIPTION:https://goo.gl/maps/X7Prisw2GQKCUiRo9
URL:https://wirsindfriedberg.de/veranstaltungen/%f0%9f%9a%90-pilot-buergerbus-ried-mit-oek-bachern-lebensmittel-post-bank-arzt-weisswurst-15
LOCATION:Dorfplatz Bürgerbus Ried (mit Bachern)\, Georgstraße\, 86316 Friedberg\, Deutschland
END:VEVENT
BEGIN:VEVENT
DTSTART;TZID=Europe/Berlin:20240304T083000
DTEND;TZID=Europe/Berlin:20240304T163000
DTSTAMP:20260424T202633
CREATED:20240123T104445Z
LAST-MODIFIED:20240304T104416Z
UID:9084-1709541000-1709569800@wirsindfriedberg.de
SUMMARY:🚐 Nachbarschaftshilfe Fahrdienst BEATE Bürgernetz Friedberg (Begleitete Einkaufsfahrten\, Arztbesuche und Termine mit dem Fahrdienst im Ehrenamt)
DESCRIPTION:http://www.buergernetz-friedberg.de
URL:https://wirsindfriedberg.de/veranstaltungen/%f0%9f%9a%90-nachbarschaftshilfe-fahrdienst-beate-buergernetz-friedberg-begleitete-einkaufsfahrten-arztbesuche-und-termine-mit-dem-fahrdienst-im-ehrenamt-36
LOCATION:Bürgernetz Friedberg\, Bahnhofstraße 28\, 86316 Friedberg\, Deutschland
END:VEVENT
BEGIN:VEVENT
DTSTART;TZID=Europe/Berlin:20240304T084500
DTEND;TZID=Europe/Berlin:20240304T094500
DTSTAMP:20260424T202633
CREATED:20240123T104444Z
LAST-MODIFIED:20240303T104541Z
UID:9083-1709541900-1709545500@wirsindfriedberg.de
SUMMARY:📅 DIGITALE SPRECHSTUNDE Bürgernetz Friedberg Services (Senioren)
DESCRIPTION:http://www.buergernetz-friedberg.de
URL:https://wirsindfriedberg.de/veranstaltungen/%f0%9f%9a%90-digitale-sprechstunde-buergernetz-friedberg-services-senioren-8
LOCATION:Bürgernetz Friedberg\, Bahnhofstraße 28\, 86316 Friedberg\, Deutschland
END:VEVENT
BEGIN:VEVENT
DTSTART;TZID=Europe/Berlin:20240304T143000
DTEND;TZID=Europe/Berlin:20240304T190000
DTSTAMP:20260424T202633
CREATED:20240123T104444Z
LAST-MODIFIED:20240304T104416Z
UID:9080-1709562600-1709578800@wirsindfriedberg.de
SUMMARY:🏢 Kreisrat Friedberg & Aichach (Wittelsbacher Land)
DESCRIPTION:https://info.lra-aic-fdb.de/buergerinfo/info.php
URL:https://wirsindfriedberg.de/veranstaltungen/%f0%9f%8f%a2-kreisrat-friedberg-aichach-wittelsbacher-land-8
LOCATION:Landratsamt Aichach-Friedberg\, Münchener Str. 9\, 86551 Aichach\, Deutschland
END:VEVENT
END:VCALENDAR