BEGIN:VCALENDAR
VERSION:2.0
PRODID:-//WIR sind Friedberg i.G. | aus der Stadt für die Stadt &amp; von Bürgerschaft mit Organisationen - ECPv6.15.20//NONSGML v1.0//EN
CALSCALE:GREGORIAN
METHOD:PUBLISH
X-WR-CALNAME:WIR sind Friedberg i.G. | aus der Stadt für die Stadt &amp; von Bürgerschaft mit Organisationen
X-ORIGINAL-URL:https://wirsindfriedberg.de
X-WR-CALDESC:Veranstaltungen für WIR sind Friedberg i.G. | aus der Stadt für die Stadt &amp; von Bürgerschaft mit Organisationen
REFRESH-INTERVAL;VALUE=DURATION:PT1H
X-Robots-Tag:noindex
X-PUBLISHED-TTL:PT1H
BEGIN:VTIMEZONE
TZID:Europe/Berlin
BEGIN:DAYLIGHT
TZOFFSETFROM:+0100
TZOFFSETTO:+0200
TZNAME:CEST
DTSTART:20230326T010000
END:DAYLIGHT
BEGIN:STANDARD
TZOFFSETFROM:+0200
TZOFFSETTO:+0100
TZNAME:CET
DTSTART:20231029T010000
END:STANDARD
BEGIN:DAYLIGHT
TZOFFSETFROM:+0100
TZOFFSETTO:+0200
TZNAME:CEST
DTSTART:20240331T010000
END:DAYLIGHT
BEGIN:STANDARD
TZOFFSETFROM:+0200
TZOFFSETTO:+0100
TZNAME:CET
DTSTART:20241027T010000
END:STANDARD
BEGIN:DAYLIGHT
TZOFFSETFROM:+0100
TZOFFSETTO:+0200
TZNAME:CEST
DTSTART:20250330T010000
END:DAYLIGHT
BEGIN:STANDARD
TZOFFSETFROM:+0200
TZOFFSETTO:+0100
TZNAME:CET
DTSTART:20251026T010000
END:STANDARD
END:VTIMEZONE
BEGIN:VEVENT
DTSTART;TZID=Europe/Berlin:20240401T000000
DTEND;TZID=Europe/Berlin:20240401T235959
DTSTAMP:20260424T174904
CREATED:20240221T100006Z
LAST-MODIFIED:20240401T121514Z
UID:9821-1711929600-1712015999@wirsindfriedberg.de
SUMMARY:📰 Vorschläge OEK Bachern Wünsche (Bürgerbeteiligung)
DESCRIPTION:http://wuensche.friedberg-bachern.de
URL:https://wirsindfriedberg.de/veranstaltungen/%f0%9f%93%b0-vorschlaege-oek-bachern-wuensche-buergerbeteiligung-12
LOCATION:Ortsteil Bachern – Stadt Friedberg in Bayern\, Georgstraße\, 86316 Friedberg\, Deutschland
END:VEVENT
BEGIN:VEVENT
DTSTART;TZID=Europe/Berlin:20240401T000000
DTEND;TZID=Europe/Berlin:20240401T235959
DTSTAMP:20260424T174904
CREATED:20240222T101531Z
LAST-MODIFIED:20240401T121514Z
UID:9835-1711929600-1712015999@wirsindfriedberg.de
SUMMARY:📰 Abstimmungen OEK Bachern Umfragen (Bürgerbeteiligung)
DESCRIPTION:http://umfragen.friedberg-bachern.de
URL:https://wirsindfriedberg.de/veranstaltungen/%f0%9f%93%b0-abstimmungen-oek-bachern-umfragen-buergerbeteiligung-12
LOCATION:Ortsteil Bachern – Stadt Friedberg in Bayern\, Georgstraße\, 86316 Friedberg\, Deutschland
END:VEVENT
BEGIN:VEVENT
DTSTART;TZID=Europe/Berlin:20240401T071500
DTEND;TZID=Europe/Berlin:20240401T153000
DTSTAMP:20260424T174904
CREATED:20240222T101530Z
LAST-MODIFIED:20240401T121514Z
UID:9828-1711955700-1711985400@wirsindfriedberg.de
SUMMARY:🧒 Kindergarten Betreuung & Spielgruppen Bachern (Kinderangebote)
DESCRIPTION:https://www.pfarreiengemeinschaft-ottmaring.de/haus-des-kindes-st-hedwig/
URL:https://wirsindfriedberg.de/veranstaltungen/%f0%9f%a7%92-kindergarten-betreuung-spielgruppen-eisenbachtal-kinderangebote-56
LOCATION:Kindergarten St. Hedwig Bachern\, Steckstraße 2B\, 86316 Friedberg\, Deutschland
END:VEVENT
BEGIN:VEVENT
DTSTART;TZID=Europe/Berlin:20240401T080000
DTEND;TZID=Europe/Berlin:20240401T120000
DTSTAMP:20260424T174904
CREATED:20240222T101530Z
LAST-MODIFIED:20240331T121400Z
UID:9826-1711958400-1711972800@wirsindfriedberg.de
SUMMARY:🚐 Pilot Bürgerbus Ried mit OEK Bachern (Lebensmittel\, Post\, Bank\, Arzt\, Weißwurst)
DESCRIPTION:https://goo.gl/maps/X7Prisw2GQKCUiRo9
URL:https://wirsindfriedberg.de/veranstaltungen/%f0%9f%9a%90-pilot-buergerbus-ried-mit-oek-bachern-lebensmittel-post-bank-arzt-weisswurst-23
LOCATION:Dorfplatz Bürgerbus Ried (mit Bachern)\, Georgstraße\, 86316 Friedberg\, Deutschland
END:VEVENT
BEGIN:VEVENT
DTSTART;TZID=Europe/Berlin:20240401T083000
DTEND;TZID=Europe/Berlin:20240401T163000
DTSTAMP:20260424T174904
CREATED:20240222T101532Z
LAST-MODIFIED:20240401T121514Z
UID:9836-1711960200-1711989000@wirsindfriedberg.de
SUMMARY:🚐 Nachbarschaftshilfe Fahrdienst BEATE Bürgernetz Friedberg (Begleitete Einkaufsfahrten\, Arztbesuche und Termine mit dem Fahrdienst im Ehrenamt)
DESCRIPTION:http://www.buergernetz-friedberg.de
URL:https://wirsindfriedberg.de/veranstaltungen/%f0%9f%9a%90-nachbarschaftshilfe-fahrdienst-beate-buergernetz-friedberg-begleitete-einkaufsfahrten-arztbesuche-und-termine-mit-dem-fahrdienst-im-ehrenamt-56
LOCATION:Bürgernetz Friedberg\, Bahnhofstraße 28\, 86316 Friedberg\, Deutschland
END:VEVENT
BEGIN:VEVENT
DTSTART;TZID=Europe/Berlin:20240401T084500
DTEND;TZID=Europe/Berlin:20240401T094500
DTSTAMP:20260424T174904
CREATED:20240222T101530Z
LAST-MODIFIED:20240331T121411Z
UID:9827-1711961100-1711964700@wirsindfriedberg.de
SUMMARY:📅 DIGITALE SPRECHSTUNDE Bürgernetz Friedberg Services (Senioren)
DESCRIPTION:http://www.buergernetz-friedberg.de
URL:https://wirsindfriedberg.de/veranstaltungen/%f0%9f%93%85-digitale-sprechstunde-buergernetz-friedberg-services-senioren-4
LOCATION:Bürgernetz Friedberg\, Bahnhofstraße 28\, 86316 Friedberg\, Deutschland
END:VEVENT
BEGIN:VEVENT
DTSTART;TZID=Europe/Berlin:20240401T143000
DTEND;TZID=Europe/Berlin:20240401T190000
DTSTAMP:20260424T174904
CREATED:20240222T101531Z
LAST-MODIFIED:20240401T121514Z
UID:9833-1711981800-1711998000@wirsindfriedberg.de
SUMMARY:🏢 Kreisrat Friedberg & Aichach (Wittelsbacher Land)
DESCRIPTION:https://info.lra-aic-fdb.de/buergerinfo/info.php
URL:https://wirsindfriedberg.de/veranstaltungen/%f0%9f%8f%a2-kreisrat-friedberg-aichach-wittelsbacher-land-12
LOCATION:Landratsamt Aichach-Friedberg\, Münchener Str. 9\, 86551 Aichach\, Deutschland
END:VEVENT
END:VCALENDAR