BEGIN:VCALENDAR
VERSION:2.0
PRODID:-//WIR sind Friedberg i.G. | aus der Stadt für die Stadt &amp; von Bürgerschaft mit Organisationen - ECPv6.15.20//NONSGML v1.0//EN
CALSCALE:GREGORIAN
METHOD:PUBLISH
X-WR-CALNAME:WIR sind Friedberg i.G. | aus der Stadt für die Stadt &amp; von Bürgerschaft mit Organisationen
X-ORIGINAL-URL:https://wirsindfriedberg.de
X-WR-CALDESC:Veranstaltungen für WIR sind Friedberg i.G. | aus der Stadt für die Stadt &amp; von Bürgerschaft mit Organisationen
REFRESH-INTERVAL;VALUE=DURATION:PT1H
X-Robots-Tag:noindex
X-PUBLISHED-TTL:PT1H
BEGIN:VTIMEZONE
TZID:Europe/Berlin
BEGIN:DAYLIGHT
TZOFFSETFROM:+0100
TZOFFSETTO:+0200
TZNAME:CEST
DTSTART:20230326T010000
END:DAYLIGHT
BEGIN:STANDARD
TZOFFSETFROM:+0200
TZOFFSETTO:+0100
TZNAME:CET
DTSTART:20231029T010000
END:STANDARD
BEGIN:DAYLIGHT
TZOFFSETFROM:+0100
TZOFFSETTO:+0200
TZNAME:CEST
DTSTART:20240331T010000
END:DAYLIGHT
BEGIN:STANDARD
TZOFFSETFROM:+0200
TZOFFSETTO:+0100
TZNAME:CET
DTSTART:20241027T010000
END:STANDARD
BEGIN:DAYLIGHT
TZOFFSETFROM:+0100
TZOFFSETTO:+0200
TZNAME:CEST
DTSTART:20250330T010000
END:DAYLIGHT
BEGIN:STANDARD
TZOFFSETFROM:+0200
TZOFFSETTO:+0100
TZNAME:CET
DTSTART:20251026T010000
END:STANDARD
END:VTIMEZONE
BEGIN:VEVENT
DTSTART;TZID=Europe/Berlin:20240402T000000
DTEND;TZID=Europe/Berlin:20240402T235959
DTSTAMP:20260424T174939
CREATED:20240222T101531Z
LAST-MODIFIED:20240402T121444Z
UID:9829-1712016000-1712102399@wirsindfriedberg.de
SUMMARY:📅 Helferkreis OEK Bachern Verleihservice & Kleinanzeigen (Eisenbachtal)
DESCRIPTION:http://service.friedberg-bachern.de
URL:https://wirsindfriedberg.de/veranstaltungen/%f0%9f%93%85-helferkreis-oek-bachern-verleihservice-kleinanzeigen-eisenbachtal-5
LOCATION:Ortsteil Bachern – Stadt Friedberg in Bayern\, Georgstraße\, 86316 Friedberg\, Deutschland
END:VEVENT
BEGIN:VEVENT
DTSTART;TZID=Europe/Berlin:20240402T000000
DTEND;TZID=Europe/Berlin:20240402T235959
DTSTAMP:20260424T174939
CREATED:20240222T101531Z
LAST-MODIFIED:20240402T121444Z
UID:9830-1712016000-1712102399@wirsindfriedberg.de
SUMMARY:Papiertonne in Friedberg
DESCRIPTION:
URL:https://wirsindfriedberg.de/veranstaltungen/papiertonne-in-friedberg-3
LOCATION:Friedberg; Neuer Postweg
END:VEVENT
BEGIN:VEVENT
DTSTART;TZID=Europe/Berlin:20240402T000000
DTEND;TZID=Europe/Berlin:20240402T235959
DTSTAMP:20260424T174939
CREATED:20240222T101531Z
LAST-MODIFIED:20240402T121445Z
UID:9834-1712016000-1712102399@wirsindfriedberg.de
SUMMARY:📅 Helferkreis OEK Bachern Ukraine Hilfe (Eisenbachtal)
DESCRIPTION:https://lra-aic-fdb.de/landratsamt/fachbereiche/abteilung-3-oeffentliche-sicherheit-verbraucherschutz/auslaenderwesen-personenstandswesen/ukraine/
URL:https://wirsindfriedberg.de/veranstaltungen/%f0%9f%93%85-helferkreis-oek-bachern-ukraine-hilfe-eisenbachtal-5
LOCATION:Landratsamt Aichach-Friedberg\, Münchener Str. 9\, 86551 Aichach\, Deutschland
END:VEVENT
BEGIN:VEVENT
DTSTART;TZID=Europe/Berlin:20240402T071500
DTEND;TZID=Europe/Berlin:20240402T153000
DTSTAMP:20260424T174939
CREATED:20240223T102933Z
LAST-MODIFIED:20240402T121444Z
UID:9850-1712042100-1712071800@wirsindfriedberg.de
SUMMARY:🧒 Kindergarten Betreuung & Spielgruppen Bachern (Kinderangebote)
DESCRIPTION:https://www.pfarreiengemeinschaft-ottmaring.de/haus-des-kindes-st-hedwig/
URL:https://wirsindfriedberg.de/veranstaltungen/%f0%9f%a7%92-kindergarten-betreuung-spielgruppen-eisenbachtal-kinderangebote-57
LOCATION:Kindergarten St. Hedwig Bachern\, Steckstraße 2B\, 86316 Friedberg\, Deutschland
END:VEVENT
BEGIN:VEVENT
DTSTART;TZID=Europe/Berlin:20240402T083000
DTEND;TZID=Europe/Berlin:20240402T163000
DTSTAMP:20260424T174939
CREATED:20240223T102933Z
LAST-MODIFIED:20240402T121444Z
UID:9845-1712046600-1712075400@wirsindfriedberg.de
SUMMARY:🚐 Nachbarschaftshilfe Fahrdienst BEATE Bürgernetz Friedberg (Begleitete Einkaufsfahrten\, Arztbesuche und Termine mit dem Fahrdienst im Ehrenamt)
DESCRIPTION:http://www.buergernetz-friedberg.de
URL:https://wirsindfriedberg.de/veranstaltungen/%f0%9f%9a%90-nachbarschaftshilfe-fahrdienst-beate-buergernetz-friedberg-begleitete-einkaufsfahrten-arztbesuche-und-termine-mit-dem-fahrdienst-im-ehrenamt-57
LOCATION:Bürgernetz Friedberg\, Bahnhofstraße 28\, 86316 Friedberg\, Deutschland
END:VEVENT
BEGIN:VEVENT
DTSTART;TZID=Europe/Berlin:20240402T090000
DTEND;TZID=Europe/Berlin:20240402T093000
DTSTAMP:20260424T174939
CREATED:20240223T102933Z
LAST-MODIFIED:20240401T121514Z
UID:9846-1712048400-1712050200@wirsindfriedberg.de
SUMMARY:🍲 Mobile Backstube Scharold Dorfplatz Bachern (Brot\, Brezen\, Semmeln\, Gebäck)
DESCRIPTION:https://goo.gl/maps/Nb6Ug82A6asEgZUg8
URL:https://wirsindfriedberg.de/veranstaltungen/%f0%9f%8d%b2-mobile-backstube-scharold-dorfplatz-bachern-brot-brezen-semmeln-gebaeck-12
LOCATION:Dorfplatz Mobile Backstube Scharold Gebäck Bachern\, Neuer Postweg\, 86316 Friedberg\, Deutschland
END:VEVENT
BEGIN:VEVENT
DTSTART;TZID=Europe/Berlin:20240402T190000
DTEND;TZID=Europe/Berlin:20240402T220000
DTSTAMP:20260424T174939
CREATED:20240223T102933Z
LAST-MODIFIED:20240402T121445Z
UID:9847-1712084400-1712095200@wirsindfriedberg.de
SUMMARY:🏢 Beirat Friedberg (Eisenbachtal & Paartal)
DESCRIPTION:https://buergerinfo-friedberg.livingdata.de/info.asp?smcnavgroup=0
URL:https://wirsindfriedberg.de/veranstaltungen/%f0%9f%8f%a2-beirat-friedberg-eisenbachtal-paartal-12
LOCATION:Rathaus\, Marienpl. 1\, 86316 Friedberg\, Deutschland
END:VEVENT
END:VCALENDAR