BEGIN:VCALENDAR
VERSION:2.0
PRODID:-//WIR sind Friedberg i.G. | aus der Stadt für die Stadt &amp; von Bürgerschaft mit Organisationen - ECPv6.15.20//NONSGML v1.0//EN
CALSCALE:GREGORIAN
METHOD:PUBLISH
X-WR-CALNAME:WIR sind Friedberg i.G. | aus der Stadt für die Stadt &amp; von Bürgerschaft mit Organisationen
X-ORIGINAL-URL:https://wirsindfriedberg.de
X-WR-CALDESC:Veranstaltungen für WIR sind Friedberg i.G. | aus der Stadt für die Stadt &amp; von Bürgerschaft mit Organisationen
REFRESH-INTERVAL;VALUE=DURATION:PT1H
X-Robots-Tag:noindex
X-PUBLISHED-TTL:PT1H
BEGIN:VTIMEZONE
TZID:Europe/Berlin
BEGIN:DAYLIGHT
TZOFFSETFROM:+0100
TZOFFSETTO:+0200
TZNAME:CEST
DTSTART:20230326T010000
END:DAYLIGHT
BEGIN:STANDARD
TZOFFSETFROM:+0200
TZOFFSETTO:+0100
TZNAME:CET
DTSTART:20231029T010000
END:STANDARD
BEGIN:DAYLIGHT
TZOFFSETFROM:+0100
TZOFFSETTO:+0200
TZNAME:CEST
DTSTART:20240331T010000
END:DAYLIGHT
BEGIN:STANDARD
TZOFFSETFROM:+0200
TZOFFSETTO:+0100
TZNAME:CET
DTSTART:20241027T010000
END:STANDARD
BEGIN:DAYLIGHT
TZOFFSETFROM:+0100
TZOFFSETTO:+0200
TZNAME:CEST
DTSTART:20250330T010000
END:DAYLIGHT
BEGIN:STANDARD
TZOFFSETFROM:+0200
TZOFFSETTO:+0100
TZNAME:CET
DTSTART:20251026T010000
END:STANDARD
END:VTIMEZONE
BEGIN:VEVENT
DTSTART;TZID=Europe/Berlin:20240504T000000
DTEND;TZID=Europe/Berlin:20240504T235959
DTSTAMP:20260424T173849
CREATED:20240325T112947Z
LAST-MODIFIED:20240504T140221Z
UID:10395-1714780800-1714867199@wirsindfriedberg.de
SUMMARY:Biotonne in Friedberg
DESCRIPTION:
URL:https://wirsindfriedberg.de/veranstaltungen/biotonne-in-friedberg-8
LOCATION:Friedberg; Neuer Postweg
END:VEVENT
BEGIN:VEVENT
DTSTART;TZID=Europe/Berlin:20240504T000000
DTEND;TZID=Europe/Berlin:20240504T235959
DTSTAMP:20260424T173849
CREATED:20240326T112957Z
LAST-MODIFIED:20240504T140221Z
UID:10403-1714780800-1714867199@wirsindfriedberg.de
SUMMARY:📅 Arbeitskreis Region OEK Eisenbachtal #Gern Dahoam (Jung & Alt)
DESCRIPTION:http://www.eisenbachtal.info
URL:https://wirsindfriedberg.de/veranstaltungen/%f0%9f%93%85-arbeitskreis-region-oek-eisenbachtal-gern-dahoam-jung-alt-9
LOCATION:Bürgerinitiative & Förderverein Erlauholz & Eisenbach Tal i.G.\, Neuer Postweg\, 86316 Friedberg\, Deutschland
END:VEVENT
BEGIN:VEVENT
DTSTART;TZID=Europe/Berlin:20240504T000000
DTEND;TZID=Europe/Berlin:20240504T235959
DTSTAMP:20260424T173849
CREATED:20240326T112958Z
LAST-MODIFIED:20240504T140221Z
UID:10409-1714780800-1714867199@wirsindfriedberg.de
SUMMARY:📅 Arbeitskreis Region OEK Erlauholz #Initiative Rückenwind (Jung & Alt)
DESCRIPTION:http://www.erlauholz.de
URL:https://wirsindfriedberg.de/veranstaltungen/%f0%9f%93%85-arbeitskreis-region-oek-erlauholz-initiative-rueckenwind-jung-alt-9
LOCATION:Bürgerinitiative Rückenwind fürs Erlauholz e.V.\, St2379\, 86316 Friedberg\, Deutschland
END:VEVENT
BEGIN:VEVENT
DTSTART;TZID=Europe/Berlin:20240504T080000
DTEND;TZID=Europe/Berlin:20240504T200000
DTSTAMP:20260424T173849
CREATED:20240325T112947Z
LAST-MODIFIED:20240504T140221Z
UID:10393-1714809600-1714852800@wirsindfriedberg.de
SUMMARY:🍲 Dorfplatz Dorfladenbox Eisenbachtal (regionale Produkte & Services)
DESCRIPTION:http://dorfladenbox.friedberg-bachern.de
URL:https://wirsindfriedberg.de/veranstaltungen/%f0%9f%8d%b2-dorfplatz-dorfladenbox-eisenbachtal-regionale-produkte-services-9
LOCATION:Dorfplatz Dorfladenbox (Automat) Bachern\, Neuer Postweg\, 86316 Friedberg\, Deutschland
END:VEVENT
BEGIN:VEVENT
DTSTART;TZID=Europe/Berlin:20240504T100000
DTEND;TZID=Europe/Berlin:20240504T150000
DTSTAMP:20260424T173849
CREATED:20240325T112947Z
LAST-MODIFIED:20240503T140104Z
UID:10396-1714816800-1714834800@wirsindfriedberg.de
SUMMARY:📅 Event Dorfflohmarkt mit Food-To-Go im Eisenbachtal (Ried\, Bachern\, Rohrbach)
DESCRIPTION:http://dorfflohmarkt.friedberg-bachern.de
URL:https://wirsindfriedberg.de/veranstaltungen/%f0%9f%93%85-event-dorfflohmarkt-mit-food-to-go-im-eisenbachtal-ried-bachern-rohrbach-16
LOCATION:Dorfflohmarkt & Food-to-Go Selling Lovers & OEK Arbeitskreis Bachern Eisenbachtal\, Neuer Postweg\, 86316 Friedberg\, Deutschland
END:VEVENT
BEGIN:VEVENT
DTSTART;TZID=Europe/Berlin:20240504T140000
DTEND;TZID=Europe/Berlin:20240504T150000
DTSTAMP:20260424T173849
CREATED:20240325T112948Z
LAST-MODIFIED:20240503T140051Z
UID:10397-1714831200-1714834800@wirsindfriedberg.de
SUMMARY:📅 Jahresprogramm OGV Obst- und Gartenbauverein Bachern-Rohrbach e.V. (Jung & Alt)
DESCRIPTION:http://ogv.friedberg-bachern.de/
URL:https://wirsindfriedberg.de/veranstaltungen/%f0%9f%93%85-jahresprogramm-ogv-obst-und-gartenbauverein-bachern-rohrbach-e-v-jung-alt-3
LOCATION:Obst- und Gartenbauverein Bachern-Rohrbach e. V.\, Gastlstraße\, 86316 Friedberg\, Deutschland
END:VEVENT
BEGIN:VEVENT
DTSTART;TZID=Europe/Berlin:20240504T190000
DTEND;TZID=Europe/Berlin:20240504T210000
DTSTAMP:20260424T173849
CREATED:20240326T112958Z
LAST-MODIFIED:20240504T140221Z
UID:10407-1714849200-1714856400@wirsindfriedberg.de
SUMMARY:📅 Jahresprogramm LJB Landjugend Bachern e.V. (Jugend)
DESCRIPTION:http://www.landjugend-bachern.de
URL:https://wirsindfriedberg.de/veranstaltungen/%f0%9f%93%85-jahresprogramm-ljb-landjugend-bachern-e-v-jugend-9
LOCATION:Landjugend Bachern e.V.\, Neuer Postweg 1\, 86316 Friedberg\, Deutschland
END:VEVENT
END:VCALENDAR