BEGIN:VCALENDAR
VERSION:2.0
PRODID:-//WIR sind Friedberg i.G. | aus der Stadt für die Stadt &amp; von Bürgerschaft mit Organisationen - ECPv6.15.20//NONSGML v1.0//EN
CALSCALE:GREGORIAN
METHOD:PUBLISH
X-ORIGINAL-URL:https://wirsindfriedberg.de
X-WR-CALDESC:Veranstaltungen für WIR sind Friedberg i.G. | aus der Stadt für die Stadt &amp; von Bürgerschaft mit Organisationen
REFRESH-INTERVAL;VALUE=DURATION:PT1H
X-Robots-Tag:noindex
X-PUBLISHED-TTL:PT1H
BEGIN:VTIMEZONE
TZID:Europe/Berlin
BEGIN:DAYLIGHT
TZOFFSETFROM:+0100
TZOFFSETTO:+0200
TZNAME:CEST
DTSTART:20230326T010000
END:DAYLIGHT
BEGIN:STANDARD
TZOFFSETFROM:+0200
TZOFFSETTO:+0100
TZNAME:CET
DTSTART:20231029T010000
END:STANDARD
BEGIN:DAYLIGHT
TZOFFSETFROM:+0100
TZOFFSETTO:+0200
TZNAME:CEST
DTSTART:20240331T010000
END:DAYLIGHT
BEGIN:STANDARD
TZOFFSETFROM:+0200
TZOFFSETTO:+0100
TZNAME:CET
DTSTART:20241027T010000
END:STANDARD
BEGIN:DAYLIGHT
TZOFFSETFROM:+0100
TZOFFSETTO:+0200
TZNAME:CEST
DTSTART:20250330T010000
END:DAYLIGHT
BEGIN:STANDARD
TZOFFSETFROM:+0200
TZOFFSETTO:+0100
TZNAME:CET
DTSTART:20251026T010000
END:STANDARD
END:VTIMEZONE
BEGIN:VEVENT
DTSTART;TZID=Europe/Berlin:20240526T000000
DTEND;TZID=Europe/Berlin:20240526T235959
DTSTAMP:20260424T145839
CREATED:20240416T130030Z
LAST-MODIFIED:20240526T065933Z
UID:10752-1716681600-1716767999@wirsindfriedberg.de
SUMMARY:📰 Veranstaltungen der Organisationen Eisenbachtal (OEK Bachern Eisenbachtal)
DESCRIPTION:http://kalender.friedberg-bachern.de/
URL:https://wirsindfriedberg.de/veranstaltungen/%f0%9f%93%b0-veranstaltungen-der-organisationen-eisenbachtal-oek-bachern-eisenbachtal-12
LOCATION:Ortsteil Bachern – Stadt Friedberg in Bayern\, Georgstraße\, 86316 Friedberg\, Deutschland
END:VEVENT
BEGIN:VEVENT
DTSTART;TZID=Europe/Berlin:20240526T000000
DTEND;TZID=Europe/Berlin:20240526T235959
DTSTAMP:20260424T145839
CREATED:20240417T130127Z
LAST-MODIFIED:20240526T065933Z
UID:10772-1716681600-1716767999@wirsindfriedberg.de
SUMMARY:📰 Download OEK Bachern Smartphone App iOS & Android (Bürgerbeteiligung)
DESCRIPTION:http://app.friedberg-bachern.de
URL:https://wirsindfriedberg.de/veranstaltungen/%f0%9f%93%b0-download-oek-bachern-smartphone-app-ios-android-buergerbeteiligung-20
LOCATION:Ortsteil Bachern – Stadt Friedberg in Bayern\, Georgstraße\, 86316 Friedberg\, Deutschland
END:VEVENT
BEGIN:VEVENT
DTSTART;TZID=Europe/Berlin:20240526T000000
DTEND;TZID=Europe/Berlin:20240526T235959
DTSTAMP:20260424T145839
CREATED:20240417T130127Z
LAST-MODIFIED:20240526T065934Z
UID:10770-1716681600-1716767999@wirsindfriedberg.de
SUMMARY:📰 Anmeldung OEK Bachern WhatsApp Gruppe Ticker (Bürgerbeteiligung)
DESCRIPTION:http://whatsapp.friedberg-bachern.de
URL:https://wirsindfriedberg.de/veranstaltungen/%f0%9f%93%b0-anmeldung-oek-bachern-whatsapp-gruppe-ticker-buergerbeteiligung-20
LOCATION:Ortsteil Bachern – Stadt Friedberg in Bayern\, Georgstraße\, 86316 Friedberg\, Deutschland
END:VEVENT
BEGIN:VEVENT
DTSTART;TZID=Europe/Berlin:20240526T000000
DTEND;TZID=Europe/Berlin:20240526T235959
DTSTAMP:20260424T145839
CREATED:20240418T131511Z
LAST-MODIFIED:20240526T065933Z
UID:10778-1716681600-1716767999@wirsindfriedberg.de
SUMMARY:📰 Eintragung von Terminen der Organisationen (OEK Bachern Eisenbachtal)
DESCRIPTION:http://events.friedberg-bachern.de/
URL:https://wirsindfriedberg.de/veranstaltungen/%f0%9f%93%b0-eintragung-von-terminen-der-organisationen-oek-bachern-eisenbachtal-12
LOCATION:Ortsteil Bachern – Stadt Friedberg in Bayern\, Georgstraße\, 86316 Friedberg\, Deutschland
END:VEVENT
BEGIN:VEVENT
DTSTART;TZID=Europe/Berlin:20240526T090000
DTEND;TZID=Europe/Berlin:20240526T110000
DTSTAMP:20260424T145839
CREATED:20240415T125957Z
LAST-MODIFIED:20240526T065933Z
UID:10740-1716714000-1716721200@wirsindfriedberg.de
SUMMARY:⛪ Gottesdienste der Pfarrei Ottmaring-Bachern-Rohrbach (Jung & Alt)
DESCRIPTION:https://www.pfarreiengemeinschaft-ottmaring.de/gottesdienste/
URL:https://wirsindfriedberg.de/veranstaltungen/%e2%9b%aa-gottesdienste-der-pfarrei-ottmaring-bachern-rohrbach-jung-alt-19
LOCATION:Pfarreiengemeinschaft Ottmaring\, St.-Michaels-Platz 7\, 86316 Friedberg\, Deutschland
END:VEVENT
BEGIN:VEVENT
DTSTART;TZID=Europe/Berlin:20240526T100000
DTEND;TZID=Europe/Berlin:20240526T120000
DTSTAMP:20260424T145839
CREATED:20240415T125957Z
LAST-MODIFIED:20240526T065934Z
UID:10739-1716717600-1716724800@wirsindfriedberg.de
SUMMARY:📅 Frühschoppentreff Bachern (Jung & Alt)
DESCRIPTION:http://www.wirsindbachern.de
URL:https://wirsindfriedberg.de/veranstaltungen/%f0%9f%93%85-fruehschoppentreff-bachern-jung-alt-12
LOCATION:Restaurant Aphrodite | Wirtshaus am Hochberg Bachern\, Asbacher Str. 11\, 86316 Friedberg\, Deutschland
END:VEVENT
BEGIN:VEVENT
DTSTART;TZID=Europe/Berlin:20240526T130000
DTEND;TZID=Europe/Berlin:20240526T180000
DTSTAMP:20260424T145839
CREATED:20240416T130030Z
LAST-MODIFIED:20240526T065933Z
UID:10754-1716728400-1716746400@wirsindfriedberg.de
SUMMARY:⚽ Fußball Spieltag SFB Sport-Freunde Bachern e.V. (Jung & Alt)
DESCRIPTION:http://www.sfbachern.de
URL:https://wirsindfriedberg.de/veranstaltungen/%e2%9a%bd-fussball-spieltag-sfb-sport-freunde-bachern-e-v-jung-alt-12
LOCATION:Sport-Freunde Bachern e.V.\, Asbacher Str. 11\, 86316 Friedberg\, Deutschland
END:VEVENT
END:VCALENDAR