BEGIN:VCALENDAR
VERSION:2.0
PRODID:-//WIR sind Friedberg i.G. | aus der Stadt für die Stadt &amp; von Bürgerschaft mit Organisationen - ECPv6.15.20//NONSGML v1.0//EN
CALSCALE:GREGORIAN
METHOD:PUBLISH
X-ORIGINAL-URL:https://wirsindfriedberg.de
X-WR-CALDESC:Veranstaltungen für WIR sind Friedberg i.G. | aus der Stadt für die Stadt &amp; von Bürgerschaft mit Organisationen
REFRESH-INTERVAL;VALUE=DURATION:PT1H
X-Robots-Tag:noindex
X-PUBLISHED-TTL:PT1H
BEGIN:VTIMEZONE
TZID:Europe/Berlin
BEGIN:DAYLIGHT
TZOFFSETFROM:+0100
TZOFFSETTO:+0200
TZNAME:CEST
DTSTART:20230326T010000
END:DAYLIGHT
BEGIN:STANDARD
TZOFFSETFROM:+0200
TZOFFSETTO:+0100
TZNAME:CET
DTSTART:20231029T010000
END:STANDARD
BEGIN:DAYLIGHT
TZOFFSETFROM:+0100
TZOFFSETTO:+0200
TZNAME:CEST
DTSTART:20240331T010000
END:DAYLIGHT
BEGIN:STANDARD
TZOFFSETFROM:+0200
TZOFFSETTO:+0100
TZNAME:CET
DTSTART:20241027T010000
END:STANDARD
BEGIN:DAYLIGHT
TZOFFSETFROM:+0100
TZOFFSETTO:+0200
TZNAME:CEST
DTSTART:20250330T010000
END:DAYLIGHT
BEGIN:STANDARD
TZOFFSETFROM:+0200
TZOFFSETTO:+0100
TZNAME:CET
DTSTART:20251026T010000
END:STANDARD
END:VTIMEZONE
BEGIN:VEVENT
DTSTART;TZID=Europe/Berlin:20240603T000000
DTEND;TZID=Europe/Berlin:20240603T235959
DTSTAMP:20260422T155119
CREATED:20240423T133152Z
LAST-MODIFIED:20240603T074403Z
UID:10885-1717372800-1717459199@wirsindfriedberg.de
SUMMARY:📰 Vorschläge OEK Bachern Wünsche (Bürgerbeteiligung)
DESCRIPTION:http://wuensche.friedberg-bachern.de
URL:https://wirsindfriedberg.de/veranstaltungen/%f0%9f%93%b0-vorschlaege-oek-bachern-wuensche-buergerbeteiligung-21
LOCATION:Ortsteil Bachern – Stadt Friedberg in Bayern\, Georgstraße\, 86316 Friedberg\, Deutschland
END:VEVENT
BEGIN:VEVENT
DTSTART;TZID=Europe/Berlin:20240603T000000
DTEND;TZID=Europe/Berlin:20240603T235959
DTSTAMP:20260422T155119
CREATED:20240424T133212Z
LAST-MODIFIED:20240603T074402Z
UID:10899-1717372800-1717459199@wirsindfriedberg.de
SUMMARY:📰 Abstimmungen OEK Bachern Umfragen (Bürgerbeteiligung)
DESCRIPTION:http://umfragen.friedberg-bachern.de
URL:https://wirsindfriedberg.de/veranstaltungen/%f0%9f%93%b0-abstimmungen-oek-bachern-umfragen-buergerbeteiligung-21
LOCATION:Ortsteil Bachern – Stadt Friedberg in Bayern\, Georgstraße\, 86316 Friedberg\, Deutschland
END:VEVENT
BEGIN:VEVENT
DTSTART;TZID=Europe/Berlin:20240603T071500
DTEND;TZID=Europe/Berlin:20240603T153000
DTSTAMP:20260422T155119
CREATED:20240425T132955Z
LAST-MODIFIED:20240603T074402Z
UID:10917-1717398900-1717428600@wirsindfriedberg.de
SUMMARY:🧒 Kindergarten Betreuung & Spielgruppen Bachern (Kinderangebote)
DESCRIPTION:https://www.pfarreiengemeinschaft-ottmaring.de/haus-des-kindes-st-hedwig/
URL:https://wirsindfriedberg.de/veranstaltungen/%f0%9f%a7%92-kindergarten-betreuung-spielgruppen-bachern-kinderangebote-41
LOCATION:Kindergarten St. Hedwig Bachern\, Steckstraße 2B\, 86316 Friedberg\, Deutschland
END:VEVENT
BEGIN:VEVENT
DTSTART;TZID=Europe/Berlin:20240603T080000
DTEND;TZID=Europe/Berlin:20240603T120000
DTSTAMP:20260422T155119
CREATED:20240424T133213Z
LAST-MODIFIED:20240603T074402Z
UID:10906-1717401600-1717416000@wirsindfriedberg.de
SUMMARY:🚐 Pilot Bürgerbus Ried mit OEK Bachern (Lebensmittel\, Post\, Bank\, Arzt\, Weißwurst)
DESCRIPTION:https://goo.gl/maps/X7Prisw2GQKCUiRo9
URL:https://wirsindfriedberg.de/veranstaltungen/%f0%9f%9a%90-pilot-buergerbus-ried-mit-oek-bachern-lebensmittel-post-bank-arzt-weisswurst-41
LOCATION:Dorfplatz Bürgerbus Ried (mit Bachern)\, Georgstraße\, 86316 Friedberg\, Deutschland
END:VEVENT
BEGIN:VEVENT
DTSTART;TZID=Europe/Berlin:20240603T083000
DTEND;TZID=Europe/Berlin:20240603T163000
DTSTAMP:20260422T155119
CREATED:20240424T133212Z
LAST-MODIFIED:20240603T074402Z
UID:10905-1717403400-1717432200@wirsindfriedberg.de
SUMMARY:🚐 Nachbarschaftshilfe Fahrdienst BEATE Bürgernetz Friedberg (Begleitete Einkaufsfahrten\, Arztbesuche und Termine mit dem Fahrdienst im Ehrenamt)
DESCRIPTION:http://www.buergernetz-friedberg.de
URL:https://wirsindfriedberg.de/veranstaltungen/%f0%9f%9a%90-nachbarschaftshilfe-fahrdienst-beate-buergernetz-friedberg-begleitete-einkaufsfahrten-arztbesuche-und-termine-mit-dem-fahrdienst-im-ehrenamt-101
LOCATION:Bürgernetz Friedberg\, Bahnhofstraße 28\, 86316 Friedberg\, Deutschland
END:VEVENT
BEGIN:VEVENT
DTSTART;TZID=Europe/Berlin:20240603T084500
DTEND;TZID=Europe/Berlin:20240603T094500
DTSTAMP:20260422T155119
CREATED:20240425T132954Z
LAST-MODIFIED:20240603T074402Z
UID:10911-1717404300-1717407900@wirsindfriedberg.de
SUMMARY:📅 DIGITALE SPRECHSTUNDE Bürgernetz Friedberg Services (Senioren)
DESCRIPTION:http://www.buergernetz-friedberg.de
URL:https://wirsindfriedberg.de/veranstaltungen/%f0%9f%93%85-digitale-sprechstunde-buergernetz-friedberg-services-senioren-13
LOCATION:Bürgernetz Friedberg\, Bahnhofstraße 28\, 86316 Friedberg\, Deutschland
END:VEVENT
BEGIN:VEVENT
DTSTART;TZID=Europe/Berlin:20240603T143000
DTEND;TZID=Europe/Berlin:20240603T190000
DTSTAMP:20260422T155119
CREATED:20240425T132955Z
LAST-MODIFIED:20240603T074402Z
UID:10918-1717425000-1717441200@wirsindfriedberg.de
SUMMARY:🏢 Kreisrat Friedberg & Aichach (Wittelsbacher Land)
DESCRIPTION:https://info.lra-aic-fdb.de/buergerinfo/info.php
URL:https://wirsindfriedberg.de/veranstaltungen/%f0%9f%8f%a2-kreisrat-friedberg-aichach-wittelsbacher-land-21
LOCATION:Landratsamt Aichach-Friedberg\, Münchener Str. 9\, 86551 Aichach\, Deutschland
END:VEVENT
END:VCALENDAR