BEGIN:VCALENDAR
VERSION:2.0
PRODID:-//WIR sind Friedberg i.G. | aus der Stadt für die Stadt &amp; von Bürgerschaft mit Organisationen - ECPv6.15.20//NONSGML v1.0//EN
CALSCALE:GREGORIAN
METHOD:PUBLISH
X-ORIGINAL-URL:https://wirsindfriedberg.de
X-WR-CALDESC:Veranstaltungen für WIR sind Friedberg i.G. | aus der Stadt für die Stadt &amp; von Bürgerschaft mit Organisationen
REFRESH-INTERVAL;VALUE=DURATION:PT1H
X-Robots-Tag:noindex
X-PUBLISHED-TTL:PT1H
BEGIN:VTIMEZONE
TZID:Europe/Berlin
BEGIN:DAYLIGHT
TZOFFSETFROM:+0100
TZOFFSETTO:+0200
TZNAME:CEST
DTSTART:20230326T010000
END:DAYLIGHT
BEGIN:STANDARD
TZOFFSETFROM:+0200
TZOFFSETTO:+0100
TZNAME:CET
DTSTART:20231029T010000
END:STANDARD
BEGIN:DAYLIGHT
TZOFFSETFROM:+0100
TZOFFSETTO:+0200
TZNAME:CEST
DTSTART:20240331T010000
END:DAYLIGHT
BEGIN:STANDARD
TZOFFSETFROM:+0200
TZOFFSETTO:+0100
TZNAME:CET
DTSTART:20241027T010000
END:STANDARD
BEGIN:DAYLIGHT
TZOFFSETFROM:+0100
TZOFFSETTO:+0200
TZNAME:CEST
DTSTART:20250330T010000
END:DAYLIGHT
BEGIN:STANDARD
TZOFFSETFROM:+0200
TZOFFSETTO:+0100
TZNAME:CET
DTSTART:20251026T010000
END:STANDARD
END:VTIMEZONE
BEGIN:VEVENT
DTSTART;TZID=Europe/Berlin:20240605T000000
DTEND;TZID=Europe/Berlin:20240605T235959
DTSTAMP:20260424T121002
CREATED:20240426T132930Z
LAST-MODIFIED:20240605T074401Z
UID:10929-1717545600-1717631999@wirsindfriedberg.de
SUMMARY:📰 Anmeldung OEK Bachern E-Mail Verteiler Newsletter (Bürgerbeteiligung)
DESCRIPTION:http://email.friedberg-bachern.de
URL:https://wirsindfriedberg.de/veranstaltungen/%f0%9f%93%b0-anmeldung-oek-bachern-e-mail-verteiler-newsletter-buergerbeteiligung-21
LOCATION:Ortsteil Bachern – Stadt Friedberg in Bayern\, Georgstraße\, 86316 Friedberg\, Deutschland
END:VEVENT
BEGIN:VEVENT
DTSTART;TZID=Europe/Berlin:20240605T000000
DTEND;TZID=Europe/Berlin:20240605T235959
DTSTAMP:20260424T121002
CREATED:20240427T133231Z
LAST-MODIFIED:20240605T074401Z
UID:10941-1717545600-1717631999@wirsindfriedberg.de
SUMMARY:📅 Helferkreis OEK Bachern Termine der Vereine (Bachern & Rohrbach)
DESCRIPTION:http://termine.friedberg-bachern.de
URL:https://wirsindfriedberg.de/veranstaltungen/%f0%9f%93%85-helferkreis-oek-bachern-termine-der-vereine-bachern-rohrbach-9
LOCATION:Ortsteil Bachern – Stadt Friedberg in Bayern\, Georgstraße\, 86316 Friedberg\, Deutschland
END:VEVENT
BEGIN:VEVENT
DTSTART;TZID=Europe/Berlin:20240605T071500
DTEND;TZID=Europe/Berlin:20240605T153000
DTSTAMP:20260424T121002
CREATED:20240426T132931Z
LAST-MODIFIED:20240605T074401Z
UID:10936-1717571700-1717601400@wirsindfriedberg.de
SUMMARY:🧒 Kindergarten Betreuung & Spielgruppen Bachern (Kinderangebote)
DESCRIPTION:https://www.pfarreiengemeinschaft-ottmaring.de/haus-des-kindes-st-hedwig/
URL:https://wirsindfriedberg.de/veranstaltungen/%f0%9f%a7%92-kindergarten-betreuung-spielgruppen-bachern-kinderangebote-43
LOCATION:Kindergarten St. Hedwig Bachern\, Steckstraße 2B\, 86316 Friedberg\, Deutschland
END:VEVENT
BEGIN:VEVENT
DTSTART;TZID=Europe/Berlin:20240605T083000
DTEND;TZID=Europe/Berlin:20240605T163000
DTSTAMP:20260424T121002
CREATED:20240426T132930Z
LAST-MODIFIED:20240605T074401Z
UID:10934-1717576200-1717605000@wirsindfriedberg.de
SUMMARY:🚐 Nachbarschaftshilfe Fahrdienst BEATE Bürgernetz Friedberg (Begleitete Einkaufsfahrten\, Arztbesuche und Termine mit dem Fahrdienst im Ehrenamt)
DESCRIPTION:http://www.buergernetz-friedberg.de
URL:https://wirsindfriedberg.de/veranstaltungen/%f0%9f%9a%90-nachbarschaftshilfe-fahrdienst-beate-buergernetz-friedberg-begleitete-einkaufsfahrten-arztbesuche-und-termine-mit-dem-fahrdienst-im-ehrenamt-103
LOCATION:Bürgernetz Friedberg\, Bahnhofstraße 28\, 86316 Friedberg\, Deutschland
END:VEVENT
BEGIN:VEVENT
DTSTART;TZID=Europe/Berlin:20240605T090000
DTEND;TZID=Europe/Berlin:20240605T220000
DTSTAMP:20260424T121002
CREATED:20240426T132930Z
LAST-MODIFIED:20240605T074401Z
UID:10933-1717578000-1717624800@wirsindfriedberg.de
SUMMARY:🧒 Kurse- und Hallenbelegungsplan SFB Sport-Freunde Bachern e.V. (Jung & Alt)
DESCRIPTION:https://www.sfbachern.de/mein-verein/breitensport/
URL:https://wirsindfriedberg.de/veranstaltungen/%f0%9f%a7%92-kurse-und-hallenbelegungsplan-sfb-sport-freunde-bachern-e-v-jung-alt-13
LOCATION:Sport-Freunde Bachern e.V.\, Asbacher Str. 11\, 86316 Friedberg\, Deutschland
END:VEVENT
BEGIN:VEVENT
DTSTART;TZID=Europe/Berlin:20240605T140000
DTEND;TZID=Europe/Berlin:20240605T160000
DTSTAMP:20260424T121002
CREATED:20240426T132931Z
LAST-MODIFIED:20240605T074401Z
UID:10935-1717596000-1717603200@wirsindfriedberg.de
SUMMARY:📅 CAFÉ Bürgernetz Friedberg Services (Senioren)
DESCRIPTION:http://www.buergernetz-friedberg.de
URL:https://wirsindfriedberg.de/veranstaltungen/%f0%9f%93%85-cafe-buergernetz-friedberg-services-senioren-14
LOCATION:Bürgernetz Friedberg\, Bahnhofstraße 28\, 86316 Friedberg\, Deutschland
END:VEVENT
BEGIN:VEVENT
DTSTART;TZID=Europe/Berlin:20240605T163000
DTEND;TZID=Europe/Berlin:20240605T180000
DTSTAMP:20260424T121002
CREATED:20240426T132931Z
LAST-MODIFIED:20240605T074401Z
UID:10937-1717605000-1717610400@wirsindfriedberg.de
SUMMARY:📅 BERATUNGSTHEKE "DIGITAL ZUSAMMEN" Bürgernetz Friedberg Services (Senioren)
DESCRIPTION:http://www.buergernetz-friedberg.de
URL:https://wirsindfriedberg.de/veranstaltungen/%f0%9f%93%85-beratungstheke-digital-zusammen-buergernetz-friedberg-services-senioren-14
LOCATION:Bürgernetz Friedberg\, Bahnhofstraße 28\, 86316 Friedberg\, Deutschland
END:VEVENT
BEGIN:VEVENT
DTSTART;TZID=Europe/Berlin:20240605T193000
DTEND;TZID=Europe/Berlin:20240605T210000
DTSTAMP:20260424T121002
CREATED:20240427T133231Z
LAST-MODIFIED:20240605T074401Z
UID:10948-1717615800-1717621200@wirsindfriedberg.de
SUMMARY:📅 Arbeitskreistreffen OEK Bachern & Eisenbachtal (Jung & Alt)
DESCRIPTION:http://www.wirsindbachern.de
URL:https://wirsindfriedberg.de/veranstaltungen/%f0%9f%93%85-arbeitskreistreffen-oek-bachern-eisenbachtal-jung-alt-19
LOCATION:Restaurant Aphrodite | Wirtshaus am Hochberg Bachern\, Asbacher Str. 11\, 86316 Friedberg\, Deutschland
END:VEVENT
END:VCALENDAR