BEGIN:VCALENDAR
VERSION:2.0
PRODID:-//WIR sind Friedberg i.G. | aus der Stadt für die Stadt &amp; von Bürgerschaft mit Organisationen - ECPv6.15.20//NONSGML v1.0//EN
CALSCALE:GREGORIAN
METHOD:PUBLISH
X-WR-CALNAME:WIR sind Friedberg i.G. | aus der Stadt für die Stadt &amp; von Bürgerschaft mit Organisationen
X-ORIGINAL-URL:https://wirsindfriedberg.de
X-WR-CALDESC:Veranstaltungen für WIR sind Friedberg i.G. | aus der Stadt für die Stadt &amp; von Bürgerschaft mit Organisationen
REFRESH-INTERVAL;VALUE=DURATION:PT1H
X-Robots-Tag:noindex
X-PUBLISHED-TTL:PT1H
BEGIN:VTIMEZONE
TZID:Europe/Berlin
BEGIN:DAYLIGHT
TZOFFSETFROM:+0100
TZOFFSETTO:+0200
TZNAME:CEST
DTSTART:20250330T010000
END:DAYLIGHT
BEGIN:STANDARD
TZOFFSETFROM:+0200
TZOFFSETTO:+0100
TZNAME:CET
DTSTART:20251026T010000
END:STANDARD
BEGIN:DAYLIGHT
TZOFFSETFROM:+0100
TZOFFSETTO:+0200
TZNAME:CEST
DTSTART:20260329T010000
END:DAYLIGHT
BEGIN:STANDARD
TZOFFSETFROM:+0200
TZOFFSETTO:+0100
TZNAME:CET
DTSTART:20261025T010000
END:STANDARD
BEGIN:DAYLIGHT
TZOFFSETFROM:+0100
TZOFFSETTO:+0200
TZNAME:CEST
DTSTART:20270328T010000
END:DAYLIGHT
BEGIN:STANDARD
TZOFFSETFROM:+0200
TZOFFSETTO:+0100
TZNAME:CET
DTSTART:20271031T010000
END:STANDARD
END:VTIMEZONE
BEGIN:VEVENT
DTSTART;TZID=Europe/Berlin:20260205T000000
DTEND;TZID=Europe/Berlin:20260205T235959
DTSTAMP:20260420T164206
CREATED:20260109T235950Z
LAST-MODIFIED:20260204T235903Z
UID:23243-1770249600-1770335999@wirsindfriedberg.de
SUMMARY:📅 Helferkreis OEK Bachern IT-Support (Eisenbachtal)
DESCRIPTION:http://faq.friedberg-bachern.de
URL:https://wirsindfriedberg.de/veranstaltungen/%f0%9f%93%85-helferkreis-oek-bachern-it-support-eisenbachtal-101
LOCATION:Ortsteil Bachern – Stadt Friedberg in Bayern\, Georgstraße\, 86316 Friedberg\, Deutschland
END:VEVENT
BEGIN:VEVENT
DTSTART;TZID=Europe/Berlin:20260205T073000
DTEND;TZID=Europe/Berlin:20260205T143000
DTSTAMP:20260420T164206
CREATED:20260108T234451Z
LAST-MODIFIED:20260204T235903Z
UID:23210-1770276600-1770301800@wirsindfriedberg.de
SUMMARY:🧒 Kindergarten Betreuung & Spielgruppen Bachern (Kinderangebote)
DESCRIPTION:https://www.pfarreiengemeinschaft-ottmaring.de/haus-des-kindes-st-hedwig/
URL:https://wirsindfriedberg.de/veranstaltungen/%f0%9f%a7%92-kindergarten-betreuung-spielgruppen-bachern-kinderangebote-636
LOCATION:Kindergarten St. Hedwig Bachern\, Steckstraße 2B\, 86316 Friedberg\, Deutschland
END:VEVENT
BEGIN:VEVENT
DTSTART;TZID=Europe/Berlin:20260205T073000
DTEND;TZID=Europe/Berlin:20260205T143000
DTSTAMP:20260420T164206
CREATED:20260108T234451Z
LAST-MODIFIED:20260204T235903Z
UID:23212-1770276600-1770301800@wirsindfriedberg.de
SUMMARY:🧒 Kindergarten Betreuung & Spielgruppen Bachern (Kinderangebote)
DESCRIPTION:https://www.pfarreiengemeinschaft-ottmaring.de/haus-des-kindes-st-hedwig/
URL:https://wirsindfriedberg.de/veranstaltungen/%f0%9f%a7%92-kindergarten-betreuung-spielgruppen-bachern-kinderangebote-637
LOCATION:Kindergarten St. Hedwig Bachern\, Steckstraße 2B\, 86316 Friedberg\, Deutschland
END:VEVENT
BEGIN:VEVENT
DTSTART;TZID=Europe/Berlin:20260205T080000
DTEND;TZID=Europe/Berlin:20260205T120000
DTSTAMP:20260420T164206
CREATED:20260108T234453Z
LAST-MODIFIED:20260204T235903Z
UID:23215-1770278400-1770292800@wirsindfriedberg.de
SUMMARY:🚐 Pilot Bürgerbus Ried mit OEK Bachern (Lebensmittel\, Post\, Bank\, Arzt\, Weißwurst)
DESCRIPTION:https://goo.gl/maps/X7Prisw2GQKCUiRo9
URL:https://wirsindfriedberg.de/veranstaltungen/%f0%9f%9a%90-pilot-buergerbus-ried-mit-oek-bachern-lebensmittel-post-bank-arzt-weisswurst-216
LOCATION:Dorfplatz Bürgerbus Ried (mit Bachern)\, Georgstraße\, 86316 Friedberg\, Deutschland
END:VEVENT
BEGIN:VEVENT
DTSTART;TZID=Europe/Berlin:20260205T083000
DTEND;TZID=Europe/Berlin:20260205T163000
DTSTAMP:20260420T164206
CREATED:20260108T234450Z
LAST-MODIFIED:20260204T235904Z
UID:23209-1770280200-1770309000@wirsindfriedberg.de
SUMMARY:🚐 Nachbarschaftshilfe Fahrdienst BEATE Bürgernetz Friedberg (Begleitete Einkaufsfahrten\, Arztbesuche und Termine mit dem Fahrdienst im Ehrenamt)
DESCRIPTION:http://www.buergernetz-friedberg.de
URL:https://wirsindfriedberg.de/veranstaltungen/%f0%9f%9a%90-nachbarschaftshilfe-fahrdienst-beate-buergernetz-friedberg-begleitete-einkaufsfahrten-arztbesuche-und-termine-mit-dem-fahrdienst-im-ehrenamt-637
LOCATION:Bürgernetz Friedberg\, Bahnhofstraße 28\, 86316 Friedberg\, Deutschland
END:VEVENT
BEGIN:VEVENT
DTSTART;TZID=Europe/Berlin:20260205T083000
DTEND;TZID=Europe/Berlin:20260205T163000
DTSTAMP:20260420T164206
CREATED:20260108T234452Z
LAST-MODIFIED:20260204T235904Z
UID:23213-1770280200-1770309000@wirsindfriedberg.de
SUMMARY:🚐 Nachbarschaftshilfe Fahrdienst BEATE Bürgernetz Friedberg (Begleitete Einkaufsfahrten\, Arztbesuche und Termine mit dem Fahrdienst im Ehrenamt)
DESCRIPTION:https://buergernetz-friedberg.de/
URL:https://wirsindfriedberg.de/veranstaltungen/%f0%9f%9a%90-nachbarschaftshilfe-fahrdienst-beate-buergernetz-friedberg-begleitete-einkaufsfahrten-arztbesuche-und-termine-mit-dem-fahrdienst-im-ehrenamt-638
END:VEVENT
BEGIN:VEVENT
DTSTART;TZID=Europe/Berlin:20260205T090000
DTEND;TZID=Europe/Berlin:20260205T220000
DTSTAMP:20260420T164206
CREATED:20260108T234451Z
LAST-MODIFIED:20260204T235904Z
UID:23211-1770282000-1770328800@wirsindfriedberg.de
SUMMARY:🧒 Kurse- und Hallenbelegungsplan SFB Sport-Freunde Bachern e.V. (Jung & Alt)
DESCRIPTION:https://www.sfbachern.de/mein-verein/breitensport/
URL:https://wirsindfriedberg.de/veranstaltungen/%f0%9f%a7%92-kurse-und-hallenbelegungsplan-sfb-sport-freunde-bachern-e-v-jung-alt-277
LOCATION:Sport-Freunde Bachern e.V.\, Asbacher Str. 11\, 86316 Friedberg\, Deutschland
END:VEVENT
BEGIN:VEVENT
DTSTART;TZID=Europe/Berlin:20260205T090000
DTEND;TZID=Europe/Berlin:20260205T220000
DTSTAMP:20260420T164206
CREATED:20260108T234453Z
LAST-MODIFIED:20260204T235918Z
UID:23217-1770282000-1770328800@wirsindfriedberg.de
SUMMARY:🧒 Kurse- und Hallenbelegungsplan SFB Sport-Freunde Bachern e.V. (Jung & Alt)
DESCRIPTION:https://www.sfbachern.de/mein-verein/breitensport/
URL:https://wirsindfriedberg.de/veranstaltungen/%f0%9f%a7%92-kurse-und-hallenbelegungsplan-sfb-sport-freunde-bachern-e-v-jung-alt-278
LOCATION:Sport-Freunde Bachern e.V.\, Asbacher Str. 11\, 86316 Friedberg\, Deutschland
END:VEVENT
BEGIN:VEVENT
DTSTART;TZID=Europe/Berlin:20260205T120000
DTEND;TZID=Europe/Berlin:20260205T130000
DTSTAMP:20260420T164206
CREATED:20260108T234452Z
LAST-MODIFIED:20260204T235904Z
UID:23214-1770292800-1770296400@wirsindfriedberg.de
SUMMARY:📅 MITTAGSTISCH Bürgernetz Friedberg Services (Senioren)
DESCRIPTION:http://www.buergernetz-friedberg.de
URL:https://wirsindfriedberg.de/veranstaltungen/%f0%9f%93%85-mittagstisch-buergernetz-friedberg-services-senioren-101
LOCATION:Bürgernetz Friedberg\, Bahnhofstraße 28\, 86316 Friedberg\, Deutschland
END:VEVENT
BEGIN:VEVENT
DTSTART;TZID=Europe/Berlin:20260205T190000
DTEND;TZID=Europe/Berlin:20260205T220000
DTSTAMP:20260420T164206
CREATED:20260108T234453Z
LAST-MODIFIED:20260204T235904Z
UID:23216-1770318000-1770328800@wirsindfriedberg.de
SUMMARY:🏢 Beirat Friedberg & Aichach (Landkreis Aichach-Friedberg Wittelsbacher Land)
DESCRIPTION:https://info.lra-aic-fdb.de/buergerinfo/info.php
URL:https://wirsindfriedberg.de/veranstaltungen/%f0%9f%8f%a2-beirat-friedberg-aichach-landkreis-aichach-friedberg-wittelsbacher-land-79
LOCATION:Landratsamt Aichach-Friedberg\, Münchener Str. 9\, 86551 Aichach\, Deutschland
END:VEVENT
BEGIN:VEVENT
DTSTART;TZID=Europe/Berlin:20260205T190000
DTEND;TZID=Europe/Berlin:20260205T220000
DTSTAMP:20260420T164206
CREATED:20260109T235947Z
LAST-MODIFIED:20260204T235904Z
UID:23235-1770318000-1770328800@wirsindfriedberg.de
SUMMARY:🏢 Stadtrat Friedberg (Stadt Friedberg Bayern)
DESCRIPTION:https://buergerinfo-friedberg.digitalfabrix.de/
URL:https://wirsindfriedberg.de/veranstaltungen/%f0%9f%8f%a2-stadtrat-friedberg-stadt-friedberg-bayern-79
LOCATION:Rathaus\, Marienpl. 1\, 86316 Friedberg\, Deutschland
END:VEVENT
END:VCALENDAR