BEGIN:VCALENDAR
VERSION:2.0
PRODID:-//WIR sind Friedberg i.G. | aus der Stadt für die Stadt &amp; von Bürgerschaft mit Organisationen - ECPv6.15.20//NONSGML v1.0//EN
CALSCALE:GREGORIAN
METHOD:PUBLISH
X-ORIGINAL-URL:https://wirsindfriedberg.de
X-WR-CALDESC:Veranstaltungen für WIR sind Friedberg i.G. | aus der Stadt für die Stadt &amp; von Bürgerschaft mit Organisationen
REFRESH-INTERVAL;VALUE=DURATION:PT1H
X-Robots-Tag:noindex
X-PUBLISHED-TTL:PT1H
BEGIN:VTIMEZONE
TZID:Europe/Berlin
BEGIN:DAYLIGHT
TZOFFSETFROM:+0100
TZOFFSETTO:+0200
TZNAME:CEST
DTSTART:20250330T010000
END:DAYLIGHT
BEGIN:STANDARD
TZOFFSETFROM:+0200
TZOFFSETTO:+0100
TZNAME:CET
DTSTART:20251026T010000
END:STANDARD
BEGIN:DAYLIGHT
TZOFFSETFROM:+0100
TZOFFSETTO:+0200
TZNAME:CEST
DTSTART:20260329T010000
END:DAYLIGHT
BEGIN:STANDARD
TZOFFSETFROM:+0200
TZOFFSETTO:+0100
TZNAME:CET
DTSTART:20261025T010000
END:STANDARD
BEGIN:DAYLIGHT
TZOFFSETFROM:+0100
TZOFFSETTO:+0200
TZNAME:CEST
DTSTART:20270328T010000
END:DAYLIGHT
BEGIN:STANDARD
TZOFFSETFROM:+0200
TZOFFSETTO:+0100
TZNAME:CET
DTSTART:20271031T010000
END:STANDARD
END:VTIMEZONE
BEGIN:VEVENT
DTSTART;TZID=Europe/Berlin:20260220T000000
DTEND;TZID=Europe/Berlin:20260220T235959
DTSTAMP:20260422T155134
CREATED:20260124T234449Z
LAST-MODIFIED:20260219T235908Z
UID:23617-1771545600-1771631999@wirsindfriedberg.de
SUMMARY:📰 Abstimmungen OEK Bachern Umfragen (Bürgerbeteiligung)
DESCRIPTION:http://umfragen.friedberg-bachern.de
URL:https://wirsindfriedberg.de/veranstaltungen/%f0%9f%93%b0-abstimmungen-oek-bachern-umfragen-buergerbeteiligung-116
LOCATION:Ortsteil Bachern – Stadt Friedberg in Bayern\, Georgstraße\, 86316 Friedberg\, Deutschland
END:VEVENT
BEGIN:VEVENT
DTSTART;TZID=Europe/Berlin:20260220T000000
DTEND;TZID=Europe/Berlin:20260220T235959
DTSTAMP:20260422T155134
CREATED:20260124T234449Z
LAST-MODIFIED:20260219T235908Z
UID:23614-1771545600-1771631999@wirsindfriedberg.de
SUMMARY:📰 Feedback OEK Bachern Auswertungen (Bürgerbeteiligung)
DESCRIPTION:http://kpi.friedberg-bachern.de
URL:https://wirsindfriedberg.de/veranstaltungen/%f0%9f%93%b0-feedback-oek-bachern-auswertungen-buergerbeteiligung-110
LOCATION:Ortsteil Bachern – Stadt Friedberg in Bayern\, Georgstraße\, 86316 Friedberg\, Deutschland
END:VEVENT
BEGIN:VEVENT
DTSTART;TZID=Europe/Berlin:20260220T000000
DTEND;TZID=Europe/Berlin:20260220T235959
DTSTAMP:20260422T155134
CREATED:20260124T234450Z
LAST-MODIFIED:20260219T235907Z
UID:23618-1771545600-1771631999@wirsindfriedberg.de
SUMMARY:📰 Stand OEK Bachern Konzept Ortsentwicklung & Regionalentwicklung (Bürgerbeteiligung)
DESCRIPTION:http://oek.friedberg-bachern.de
URL:https://wirsindfriedberg.de/veranstaltungen/%f0%9f%93%b0-stand-oek-bachern-konzept-ortsentwicklung-regionalentwicklung-buergerbeteiligung-17
LOCATION:Ortsteil Bachern – Stadt Friedberg in Bayern\, Georgstraße\, 86316 Friedberg\, Deutschland
END:VEVENT
BEGIN:VEVENT
DTSTART;TZID=Europe/Berlin:20260220T000000
DTEND;TZID=Europe/Berlin:20260220T235959
DTSTAMP:20260422T155134
CREATED:20260124T234450Z
LAST-MODIFIED:20260219T235908Z
UID:23620-1771545600-1771631999@wirsindfriedberg.de
SUMMARY:📰 Wünsche OEK Bachern Ideen (Bürgerbeteiligung)
DESCRIPTION:http://wuensche.friedberg-bachern.de
URL:https://wirsindfriedberg.de/veranstaltungen/%f0%9f%93%b0-wuensche-oek-bachern-ideen-buergerbeteiligung-22
LOCATION:Ortsteil Bachern – Stadt Friedberg in Bayern\, Georgstraße\, 86316 Friedberg\, Deutschland
END:VEVENT
BEGIN:VEVENT
DTSTART;TZID=Europe/Berlin:20260220T000000
DTEND;TZID=Europe/Berlin:20260220T235959
DTSTAMP:20260422T155134
CREATED:20260124T234451Z
LAST-MODIFIED:20260220T235905Z
UID:23625-1771545600-1771631999@wirsindfriedberg.de
SUMMARY:Biotonne in Friedberg
DESCRIPTION:
URL:https://wirsindfriedberg.de/veranstaltungen/biotonne-in-friedberg-55
LOCATION:Friedberg; Neuer Postweg
END:VEVENT
BEGIN:VEVENT
DTSTART;TZID=Europe/Berlin:20260220T073000
DTEND;TZID=Europe/Berlin:20260220T143000
DTSTAMP:20260422T155134
CREATED:20260124T234448Z
LAST-MODIFIED:20260219T235909Z
UID:23612-1771572600-1771597800@wirsindfriedberg.de
SUMMARY:🧒 Kindergarten Betreuung & Spielgruppen Bachern (Kinderangebote)
DESCRIPTION:https://www.pfarreiengemeinschaft-ottmaring.de/haus-des-kindes-st-hedwig/
URL:https://wirsindfriedberg.de/veranstaltungen/%f0%9f%a7%92-kindergarten-betreuung-spielgruppen-bachern-kinderangebote-658
LOCATION:Kindergarten St. Hedwig Bachern\, Steckstraße 2B\, 86316 Friedberg\, Deutschland
END:VEVENT
BEGIN:VEVENT
DTSTART;TZID=Europe/Berlin:20260220T073000
DTEND;TZID=Europe/Berlin:20260220T143000
DTSTAMP:20260422T155134
CREATED:20260124T234451Z
LAST-MODIFIED:20260219T235907Z
UID:23624-1771572600-1771597800@wirsindfriedberg.de
SUMMARY:🧒 Kindergarten Betreuung & Spielgruppen Bachern (Kinderangebote)
DESCRIPTION:https://www.pfarreiengemeinschaft-ottmaring.de/haus-des-kindes-st-hedwig/
URL:https://wirsindfriedberg.de/veranstaltungen/%f0%9f%a7%92-kindergarten-betreuung-spielgruppen-bachern-kinderangebote-659
LOCATION:Kindergarten St. Hedwig Bachern\, Steckstraße 2B\, 86316 Friedberg\, Deutschland
END:VEVENT
BEGIN:VEVENT
DTSTART;TZID=Europe/Berlin:20260220T083000
DTEND;TZID=Europe/Berlin:20260220T163000
DTSTAMP:20260422T155134
CREATED:20260124T234448Z
LAST-MODIFIED:20260219T235920Z
UID:23613-1771576200-1771605000@wirsindfriedberg.de
SUMMARY:🚐 Nachbarschaftshilfe Fahrdienst BEATE Bürgernetz Friedberg (Begleitete Einkaufsfahrten\, Arztbesuche und Termine mit dem Fahrdienst im Ehrenamt)
DESCRIPTION:https://buergernetz-friedberg.de/
URL:https://wirsindfriedberg.de/veranstaltungen/%f0%9f%9a%90-nachbarschaftshilfe-fahrdienst-beate-buergernetz-friedberg-begleitete-einkaufsfahrten-arztbesuche-und-termine-mit-dem-fahrdienst-im-ehrenamt-659
END:VEVENT
BEGIN:VEVENT
DTSTART;TZID=Europe/Berlin:20260220T083000
DTEND;TZID=Europe/Berlin:20260220T163000
DTSTAMP:20260422T155134
CREATED:20260124T234449Z
LAST-MODIFIED:20260219T235908Z
UID:23615-1771576200-1771605000@wirsindfriedberg.de
SUMMARY:🚐 Nachbarschaftshilfe Fahrdienst BEATE Bürgernetz Friedberg (Begleitete Einkaufsfahrten\, Arztbesuche und Termine mit dem Fahrdienst im Ehrenamt)
DESCRIPTION:http://www.buergernetz-friedberg.de
URL:https://wirsindfriedberg.de/veranstaltungen/%f0%9f%9a%90-nachbarschaftshilfe-fahrdienst-beate-buergernetz-friedberg-begleitete-einkaufsfahrten-arztbesuche-und-termine-mit-dem-fahrdienst-im-ehrenamt-660
LOCATION:Bürgernetz Friedberg\, Bahnhofstraße 28\, 86316 Friedberg\, Deutschland
END:VEVENT
BEGIN:VEVENT
DTSTART;TZID=Europe/Berlin:20260220T090000
DTEND;TZID=Europe/Berlin:20260220T220000
DTSTAMP:20260422T155134
CREATED:20260122T235952Z
LAST-MODIFIED:20260219T235908Z
UID:23594-1771578000-1771624800@wirsindfriedberg.de
SUMMARY:🧒 Kurse- und Hallenbelegungsplan SFB Sport-Freunde Bachern e.V. (Jung & Alt)
DESCRIPTION:https://www.sfbachern.de/mein-verein/breitensport/
URL:https://wirsindfriedberg.de/veranstaltungen/%f0%9f%a7%92-kurse-und-hallenbelegungsplan-sfb-sport-freunde-bachern-e-v-jung-alt-299
LOCATION:Sport-Freunde Bachern e.V.\, Asbacher Str. 11\, 86316 Friedberg\, Deutschland
END:VEVENT
BEGIN:VEVENT
DTSTART;TZID=Europe/Berlin:20260220T090000
DTEND;TZID=Europe/Berlin:20260220T220000
DTSTAMP:20260422T155134
CREATED:20260124T234451Z
LAST-MODIFIED:20260219T235920Z
UID:23623-1771578000-1771624800@wirsindfriedberg.de
SUMMARY:🧒 Kurse- und Hallenbelegungsplan SFB Sport-Freunde Bachern e.V. (Jung & Alt)
DESCRIPTION:https://www.sfbachern.de/mein-verein/breitensport/
URL:https://wirsindfriedberg.de/veranstaltungen/%f0%9f%a7%92-kurse-und-hallenbelegungsplan-sfb-sport-freunde-bachern-e-v-jung-alt-300
LOCATION:Sport-Freunde Bachern e.V.\, Asbacher Str. 11\, 86316 Friedberg\, Deutschland
END:VEVENT
BEGIN:VEVENT
DTSTART;TZID=Europe/Berlin:20260220T183000
DTEND;TZID=Europe/Berlin:20260220T220000
DTSTAMP:20260422T155134
CREATED:20260124T234450Z
LAST-MODIFIED:20260219T235909Z
UID:23621-1771612200-1771624800@wirsindfriedberg.de
SUMMARY:🏅 Übungsschießen SGB Schützengemeinschaft Bachern e.V. (Jung & Alt)
DESCRIPTION:http://www.schuetzengemeinschaft-bachern.de
URL:https://wirsindfriedberg.de/veranstaltungen/%f0%9f%8f%85-uebungsschiessen-sgb-schuetzengemeinschaft-bachern-e-v-jung-alt-103
LOCATION:Schützengemeinschaft Bachern e.V.\, Asbacher Str. 11\, 86316 Friedberg\, Deutschland
END:VEVENT
BEGIN:VEVENT
DTSTART;TZID=Europe/Berlin:20260220T193000
DTEND;TZID=Europe/Berlin:20260220T210000
DTSTAMP:20260422T155134
CREATED:20260124T234450Z
LAST-MODIFIED:20260219T235920Z
UID:23622-1771615800-1771621200@wirsindfriedberg.de
SUMMARY:📅 Arbeitskreise & Dorfstammtischtreffen OEK Bachern & Eisenbachtal (Jung & Alt)
DESCRIPTION:http://stammtisch.friedberg-bachern.de
URL:https://wirsindfriedberg.de/veranstaltungen/%f0%9f%93%85-arbeitskreise-dorfstammtischtreffen-oek-bachern-eisenbachtal-jung-alt-17
LOCATION:Restaurant Aphrodite | Wirtshaus am Hochberg Bachern\, Asbacher Str. 11\, 86316 Friedberg\, Deutschland
END:VEVENT
BEGIN:VEVENT
DTSTART;TZID=Europe/Berlin:20260220T193000
DTEND;TZID=Europe/Berlin:20260220T220000
DTSTAMP:20260422T155134
CREATED:20260124T234449Z
LAST-MODIFIED:20260219T235920Z
UID:23616-1771615800-1771624800@wirsindfriedberg.de
SUMMARY:🚒 Übungen Plan FFWB Freiwillige Feuerwehr Bachern e.V. (Jung & Alt)
DESCRIPTION:http://www.ffw-bachern.de
URL:https://wirsindfriedberg.de/veranstaltungen/%f0%9f%9a%92-uebungen-plan-ffwb-freiwillige-feuerwehr-bachern-e-v-jung-alt-103
LOCATION:Freiwillige Feuerwehr Bachern\, Neuer Postweg 1\, 86316 Friedberg\, Deutschland
END:VEVENT
END:VCALENDAR