BEGIN:VCALENDAR
VERSION:2.0
PRODID:-//WIR sind Friedberg i.G. | aus der Stadt für die Stadt &amp; von Bürgerschaft mit Organisationen - ECPv6.15.20//NONSGML v1.0//EN
CALSCALE:GREGORIAN
METHOD:PUBLISH
X-ORIGINAL-URL:https://wirsindfriedberg.de
X-WR-CALDESC:Veranstaltungen für WIR sind Friedberg i.G. | aus der Stadt für die Stadt &amp; von Bürgerschaft mit Organisationen
REFRESH-INTERVAL;VALUE=DURATION:PT1H
X-Robots-Tag:noindex
X-PUBLISHED-TTL:PT1H
BEGIN:VTIMEZONE
TZID:Europe/Berlin
BEGIN:DAYLIGHT
TZOFFSETFROM:+0100
TZOFFSETTO:+0200
TZNAME:CEST
DTSTART:20250330T010000
END:DAYLIGHT
BEGIN:STANDARD
TZOFFSETFROM:+0200
TZOFFSETTO:+0100
TZNAME:CET
DTSTART:20251026T010000
END:STANDARD
BEGIN:DAYLIGHT
TZOFFSETFROM:+0100
TZOFFSETTO:+0200
TZNAME:CEST
DTSTART:20260329T010000
END:DAYLIGHT
BEGIN:STANDARD
TZOFFSETFROM:+0200
TZOFFSETTO:+0100
TZNAME:CET
DTSTART:20261025T010000
END:STANDARD
BEGIN:DAYLIGHT
TZOFFSETFROM:+0100
TZOFFSETTO:+0200
TZNAME:CEST
DTSTART:20270328T010000
END:DAYLIGHT
BEGIN:STANDARD
TZOFFSETFROM:+0200
TZOFFSETTO:+0100
TZNAME:CET
DTSTART:20271031T010000
END:STANDARD
END:VTIMEZONE
BEGIN:VTIMEZONE
TZID:UTC
BEGIN:STANDARD
TZOFFSETFROM:+0000
TZOFFSETTO:+0000
TZNAME:UTC
DTSTART:20250101T000000
END:STANDARD
END:VTIMEZONE
BEGIN:VEVENT
DTSTART;TZID=Europe/Berlin:20260326T000000
DTEND;TZID=Europe/Berlin:20260326T235959
DTSTAMP:20260424T133840
CREATED:20260227T234508Z
LAST-MODIFIED:20260324T235958Z
UID:24568-1774483200-1774569599@wirsindfriedberg.de
SUMMARY:📅 Helferkreis OEK Bachern IT-Support (Eisenbachtal)
DESCRIPTION:http://faq.friedberg-bachern.de
URL:https://wirsindfriedberg.de/veranstaltungen/%f0%9f%93%85-helferkreis-oek-bachern-it-support-eisenbachtal-108
LOCATION:Ortsteil Bachern – Stadt Friedberg in Bayern\, Georgstraße\, 86316 Friedberg\, Deutschland
END:VEVENT
BEGIN:VEVENT
DTSTART;TZID=Europe/Berlin:20260326T073000
DTEND;TZID=Europe/Berlin:20260326T143000
DTSTAMP:20260424T133840
CREATED:20260226T234514Z
LAST-MODIFIED:20260324T235958Z
UID:24535-1774510200-1774535400@wirsindfriedberg.de
SUMMARY:🧒 Kindergarten Betreuung & Spielgruppen Bachern (Kinderangebote)
DESCRIPTION:https://www.pfarreiengemeinschaft-ottmaring.de/haus-des-kindes-st-hedwig/
URL:https://wirsindfriedberg.de/veranstaltungen/%f0%9f%a7%92-kindergarten-betreuung-spielgruppen-bachern-kinderangebote-706
LOCATION:Kindergarten St. Hedwig Bachern\, Steckstraße 2B\, 86316 Friedberg\, Deutschland
END:VEVENT
BEGIN:VEVENT
DTSTART;TZID=Europe/Berlin:20260326T073000
DTEND;TZID=Europe/Berlin:20260326T143000
DTSTAMP:20260424T133840
CREATED:20260226T234515Z
LAST-MODIFIED:20260324T235958Z
UID:24538-1774510200-1774535400@wirsindfriedberg.de
SUMMARY:🧒 Kindergarten Betreuung & Spielgruppen Bachern (Kinderangebote)
DESCRIPTION:https://www.pfarreiengemeinschaft-ottmaring.de/haus-des-kindes-st-hedwig/
URL:https://wirsindfriedberg.de/veranstaltungen/%f0%9f%a7%92-kindergarten-betreuung-spielgruppen-bachern-kinderangebote-707
LOCATION:Kindergarten St. Hedwig Bachern\, Steckstraße 2B\, 86316 Friedberg\, Deutschland
END:VEVENT
BEGIN:VEVENT
DTSTART;TZID=Europe/Berlin:20260326T080000
DTEND;TZID=Europe/Berlin:20260326T120000
DTSTAMP:20260424T133840
CREATED:20260226T234513Z
LAST-MODIFIED:20260324T235959Z
UID:24532-1774512000-1774526400@wirsindfriedberg.de
SUMMARY:🚐 Pilot Bürgerbus Ried mit OEK Bachern (Lebensmittel\, Post\, Bank\, Arzt\, Weißwurst)
DESCRIPTION:https://goo.gl/maps/X7Prisw2GQKCUiRo9
URL:https://wirsindfriedberg.de/veranstaltungen/%f0%9f%9a%90-pilot-buergerbus-ried-mit-oek-bachern-lebensmittel-post-bank-arzt-weisswurst-230
LOCATION:Dorfplatz Bürgerbus Ried (mit Bachern)\, Georgstraße\, 86316 Friedberg\, Deutschland
END:VEVENT
BEGIN:VEVENT
DTSTART;TZID=Europe/Berlin:20260326T083000
DTEND;TZID=Europe/Berlin:20260326T163000
DTSTAMP:20260424T133840
CREATED:20260226T234513Z
LAST-MODIFIED:20260324T235958Z
UID:24534-1774513800-1774542600@wirsindfriedberg.de
SUMMARY:🚐 Nachbarschaftshilfe Fahrdienst BEATE Bürgernetz Friedberg (Begleitete Einkaufsfahrten\, Arztbesuche und Termine mit dem Fahrdienst im Ehrenamt)
DESCRIPTION:http://www.buergernetz-friedberg.de
URL:https://wirsindfriedberg.de/veranstaltungen/%f0%9f%9a%90-nachbarschaftshilfe-fahrdienst-beate-buergernetz-friedberg-begleitete-einkaufsfahrten-arztbesuche-und-termine-mit-dem-fahrdienst-im-ehrenamt-707
LOCATION:Bürgernetz Friedberg\, Bahnhofstraße 28\, 86316 Friedberg\, Deutschland
END:VEVENT
BEGIN:VEVENT
DTSTART;TZID=Europe/Berlin:20260326T083000
DTEND;TZID=Europe/Berlin:20260326T163000
DTSTAMP:20260424T133840
CREATED:20260226T234516Z
LAST-MODIFIED:20260324T235958Z
UID:24539-1774513800-1774542600@wirsindfriedberg.de
SUMMARY:🚐 Nachbarschaftshilfe Fahrdienst BEATE Bürgernetz Friedberg (Begleitete Einkaufsfahrten\, Arztbesuche und Termine mit dem Fahrdienst im Ehrenamt)
DESCRIPTION:https://buergernetz-friedberg.de/
URL:https://wirsindfriedberg.de/veranstaltungen/%f0%9f%9a%90-nachbarschaftshilfe-fahrdienst-beate-buergernetz-friedberg-begleitete-einkaufsfahrten-arztbesuche-und-termine-mit-dem-fahrdienst-im-ehrenamt-708
END:VEVENT
BEGIN:VEVENT
DTSTART;TZID=Europe/Berlin:20260326T090000
DTEND;TZID=Europe/Berlin:20260326T220000
DTSTAMP:20260424T133840
CREATED:20260226T234513Z
LAST-MODIFIED:20260324T235958Z
UID:24533-1774515600-1774562400@wirsindfriedberg.de
SUMMARY:🧒 Kurse- und Hallenbelegungsplan SFB Sport-Freunde Bachern e.V. (Jung & Alt)
DESCRIPTION:https://www.sfbachern.de/mein-verein/breitensport/
URL:https://wirsindfriedberg.de/veranstaltungen/%f0%9f%a7%92-kurse-und-hallenbelegungsplan-sfb-sport-freunde-bachern-e-v-jung-alt-347
LOCATION:Sport-Freunde Bachern e.V.\, Asbacher Str. 11\, 86316 Friedberg\, Deutschland
END:VEVENT
BEGIN:VEVENT
DTSTART;TZID=Europe/Berlin:20260326T090000
DTEND;TZID=Europe/Berlin:20260326T220000
DTSTAMP:20260424T133840
CREATED:20260226T234514Z
LAST-MODIFIED:20260324T235958Z
UID:24536-1774515600-1774562400@wirsindfriedberg.de
SUMMARY:🧒 Kurse- und Hallenbelegungsplan SFB Sport-Freunde Bachern e.V. (Jung & Alt)
DESCRIPTION:https://www.sfbachern.de/mein-verein/breitensport/
URL:https://wirsindfriedberg.de/veranstaltungen/%f0%9f%a7%92-kurse-und-hallenbelegungsplan-sfb-sport-freunde-bachern-e-v-jung-alt-348
LOCATION:Sport-Freunde Bachern e.V.\, Asbacher Str. 11\, 86316 Friedberg\, Deutschland
END:VEVENT
BEGIN:VEVENT
DTSTART;TZID=Europe/Berlin:20260326T120000
DTEND;TZID=Europe/Berlin:20260326T130000
DTSTAMP:20260424T133840
CREATED:20260226T234515Z
LAST-MODIFIED:20260324T235959Z
UID:24537-1774526400-1774530000@wirsindfriedberg.de
SUMMARY:📅 MITTAGSTISCH Bürgernetz Friedberg Services (Senioren)
DESCRIPTION:http://www.buergernetz-friedberg.de
URL:https://wirsindfriedberg.de/veranstaltungen/%f0%9f%93%85-mittagstisch-buergernetz-friedberg-services-senioren-108
LOCATION:Bürgernetz Friedberg\, Bahnhofstraße 28\, 86316 Friedberg\, Deutschland
END:VEVENT
BEGIN:VEVENT
DTSTART;TZID=UTC:20260326T143000
DTEND;TZID=UTC:20260326T160000
DTSTAMP:20260424T133840
CREATED:20260118T191356Z
LAST-MODIFIED:20260325T222918Z
UID:23456-1774535400-1774540800@wirsindfriedberg.de
SUMMARY:Kidsclub im März
DESCRIPTION:🌷 Der Frühling zieht ein! Oster-Gärtnerei & Bastelspaß\nEin grüner und bunter Workshop für Kinder\nDer Winter ist vorbei und wir haben Lust auf Farbe! In diesem Workshop werden wir zu kleinen Gärtnern und Künstlern zugleich. Gemeinsam wecken wir die Frühlingsgefühle und gestalten wunderschöne Ostertöpfe\, die garantiert gute Laune machen.\nWas wir im Workshop machen\nWir verbinden Natur und Kreativität in zwei tollen Schritten:\nBunte Töpfe bepflanzen: Jeder darf sich seinen eigenen Blumentopf mit farbenfrohen Frühlingsblühern bepflanzen. Wir lernen dabei spielerisch\, was Pflanzen brauchen\, und dürfen ordentlich in der Erde buddeln!\nOster-Stecker gestalten: Damit der Topf auch richtig festlich aussieht\, basteln wir  Blumenstecker mit Oster- Motive\, die wir anschließend in die Erde stecken.\nWarum du dabei sein solltest\nDein eigenes Werk: Am Ende nimmst du einen fertig bepflanzten und dekorierten Topf mit nach Hause.\nDas perfekte Geschenk: Dein Ostertopf eignet sich super als Dekoration für den Frühstückstisch an Ostern oder als liebevolles Geschenk für Mama\, Papa oder die Großeltern.\nNatur erleben: Du lernst den Umgang mit Pflanzen und Erde kennen.\nLass uns den Frühling begrüßen!\n.:: Dieser Kidsclub findet am 29.03.2026 ein zweites Mal statt ::.
URL:https://wirsindfriedberg.de/veranstaltungen/kidsclub-im-maerz
LOCATION:KreativWerkstatt Vereinsheim\, Weiherstr. 9 (Eingang: Ringstr.)\, Ried\, 86510\, Deutschland
END:VEVENT
BEGIN:VEVENT
DTSTART;TZID=Europe/Berlin:20260326T190000
DTEND;TZID=Europe/Berlin:20260326T220000
DTSTAMP:20260424T133840
CREATED:20260226T234516Z
LAST-MODIFIED:20260324T235959Z
UID:24540-1774551600-1774562400@wirsindfriedberg.de
SUMMARY:🏢 Stadtrat Friedberg (Stadt Friedberg Bayern)
DESCRIPTION:https://buergerinfo-friedberg.digitalfabrix.de/
URL:https://wirsindfriedberg.de/veranstaltungen/%f0%9f%8f%a2-stadtrat-friedberg-stadt-friedberg-bayern-86
LOCATION:Rathaus\, Marienpl. 1\, 86316 Friedberg\, Deutschland
END:VEVENT
BEGIN:VEVENT
DTSTART;TZID=Europe/Berlin:20260326T190000
DTEND;TZID=Europe/Berlin:20260326T220000
DTSTAMP:20260424T133840
CREATED:20260226T234516Z
LAST-MODIFIED:20260324T235959Z
UID:24541-1774551600-1774562400@wirsindfriedberg.de
SUMMARY:🏢 Beirat Friedberg & Aichach (Landkreis Aichach-Friedberg Wittelsbacher Land)
DESCRIPTION:https://info.lra-aic-fdb.de/buergerinfo/info.php
URL:https://wirsindfriedberg.de/veranstaltungen/%f0%9f%8f%a2-beirat-friedberg-aichach-landkreis-aichach-friedberg-wittelsbacher-land-86
LOCATION:Landratsamt Aichach-Friedberg\, Münchener Str. 9\, 86551 Aichach\, Deutschland
END:VEVENT
END:VCALENDAR