BEGIN:VCALENDAR
VERSION:2.0
PRODID:-//WIR sind Friedberg i.G. | aus der Stadt für die Stadt &amp; von Bürgerschaft mit Organisationen - ECPv6.15.20//NONSGML v1.0//EN
CALSCALE:GREGORIAN
METHOD:PUBLISH
X-ORIGINAL-URL:https://wirsindfriedberg.de
X-WR-CALDESC:Veranstaltungen für WIR sind Friedberg i.G. | aus der Stadt für die Stadt &amp; von Bürgerschaft mit Organisationen
REFRESH-INTERVAL;VALUE=DURATION:PT1H
X-Robots-Tag:noindex
X-PUBLISHED-TTL:PT1H
BEGIN:VTIMEZONE
TZID:UTC
BEGIN:STANDARD
TZOFFSETFROM:+0000
TZOFFSETTO:+0000
TZNAME:UTC
DTSTART:20250101T000000
END:STANDARD
END:VTIMEZONE
BEGIN:VEVENT
DTSTART;TZID=UTC:20260625T133000
DTEND;TZID=UTC:20260625T150000
DTSTAMP:20260420T165256
CREATED:20260118T191357Z
LAST-MODIFIED:20260419T232904Z
UID:23459-1782394200-1782399600@wirsindfriedberg.de
SUMMARY:Kidsclub im Juni
DESCRIPTION:🥁 Rhythmus\, Leder & Holz: Dein Percussion-Abenteuer\nWerkstatt & Musik-Erlebnis für Kinder\nHast du den Rhythmus im Blut? Kribbelt es dir in den Fingern\, wenn du Musik hörst? Dann komm in unser Percussion-Team! In diesem Workshop verbinden wir echtes Handwerk mit fetzigen Grooves. Wir bauen unser eigenes Equipment und bringen damit den Raum zum Schwingen.\nDas Programm: Erst Handwerken\, dann Grooven\n1. Die Instrumentenbau-Werkstatt: Holz trifft Leder\nEin guter Percussionist braucht das perfekte Werkzeug. Deshalb basteln wir uns  einen Trommelstock.\nNaturmaterialien: Wir arbeiten mit stabilen Holzstäben und echtem Leder.\nHandwerk: Du lernst\, wie man das Leder so verarbeitet und befestigt\, dass ein professioneller Schlägel entsteht. Das sieht nicht nur stark aus\, sondern sorgt auch für einen besonders schönen\, warmen Klang auf der Trommel.\n2. Die Percussion-Session: Mehr als nur “Bumm Bumm”\nMit unseren neuen Leder-Stöcken und den Händen gehen wir auf eine klangliche Entdeckungsreise.\nDie Welt der Percussion: Wir spielen nicht nur auf Trommeln! Wir entdecken verschiedenste Rhythmus-Instrumente (z.B. Klanghölzer\, Shaker….)\nDer gemeinsame Groove: Wir lernen\, aufeinander zu hören. Wie klingt Holz auf Holz? Wie klingt der Leder-Schlägel auf der Trommel? Zusammen bauen wir ein richtiges Percussion-Orchester auf.\nWarum du dabei sein solltest\nEchtes Handwerk: Du arbeitest mit hochwertigen Materialien und nimmst ein langlebiges Paar Trommelstöcke mit nach Hause.\nMusikalische Vielfalt: Du lernst verschiedene Rhythmusinstrumente kennen und verstehst\, wie sie zusammenspielen.\nEnergie & Spaß: Percussion macht den Kopf frei\, fördert die Konzentration und macht in der Gruppe einfach riesigen Spaß.\nBist du bereit\, den Takt anzugeben?
URL:https://wirsindfriedberg.de/veranstaltungen/kidsclub-im-juni
LOCATION:KreativWerkstatt Vereinsheim\, Weiherstr. 9 (Eingang: Ringstr.)\, Ried\, 86510\, Deutschland
END:VEVENT
END:VCALENDAR