BEGIN:VCALENDAR
VERSION:2.0
PRODID:-//WIR sind Friedberg i.G. | aus der Stadt für die Stadt &amp; von Bürgerschaft mit Organisationen - ECPv6.15.20//NONSGML v1.0//EN
CALSCALE:GREGORIAN
METHOD:PUBLISH
X-ORIGINAL-URL:https://wirsindfriedberg.de
X-WR-CALDESC:Veranstaltungen für WIR sind Friedberg i.G. | aus der Stadt für die Stadt &amp; von Bürgerschaft mit Organisationen
REFRESH-INTERVAL;VALUE=DURATION:PT1H
X-Robots-Tag:noindex
X-PUBLISHED-TTL:PT1H
BEGIN:VTIMEZONE
TZID:UTC
BEGIN:STANDARD
TZOFFSETFROM:+0000
TZOFFSETTO:+0000
TZNAME:UTC
DTSTART:20250101T000000
END:STANDARD
END:VTIMEZONE
BEGIN:VEVENT
DTSTART;TZID=UTC:20260726T080000
DTEND;TZID=UTC:20260726T093000
DTSTAMP:20260424T202639
CREATED:20260225T212900Z
LAST-MODIFIED:20260423T232857Z
UID:24493-1785052800-1785058200@wirsindfriedberg.de
SUMMARY:Kidsclub im Juli
DESCRIPTION:🧼 Schaum\, Wasser & bunte Wolle: Wir filzen Schlüsselanhänger\nEin glitschig-bunter Workshop für kreative Hände\nHast du Lust auf eine kleine „Schaumparty“ am Basteltisch? Beim Nassfilzen geschieht echte Magie: Aus ganz weicher\, flauschiger Wolle wird durch Reiben\, Rollen und Seifenwasser ein festes\, kunterbuntes Kunstwerk.\nKomm vorbei und filze dir deinen eigenen\, unkaputtbaren Begleiter für den Schulranzen oder den Schlüsselbund!\nWas dich in der Filz-Werkstatt erwartet\nHier darfst du nach Herzenslust mit Wasser und Farben spielen:\nDie Qual der Wahl: Suche dir aus einem Berg von bunter Märchenwolle deine Lieblingsfarben aus.\nDas Handwerk: Du lernst\, wie man mit warmem Seifenwasser und geduldigen Händen die Wolle verfilzt. Wir streicheln\, drücken und rollen\, bis die Fasern fest zusammenhalten.\nDie Form: Ob eine kugelrunde Perle\, eine bunte Schnur (“Filzwurm”)\, eine Blüte oder ein flaches Motiv – du entscheidest\, wie dein Anhänger aussieht.\nDas Finish: Zum Schluss befestigen wir einen stabilen Schlüsselring\, und vielleicht noch ein paar Perlen oder Glöckchen\, damit dein Anhänger perfekt wird.\nWarum Nassfilzen so toll ist\nEin Fest für die Sinne: Das warme Wasser und der weiche Seifenschaum fühlen sich toll auf der Haut an.\nSuper stabil: Dein gefilzter Anhänger hält ewig\, kann nicht zerbrechen und ist federleicht.\nTolles Geschenk: Über so einen selbstgemachten Anhänger freuen sich auch Mama\, Papa oder die beste Freundin riesig.\nLust auf bunten Seifenschaum?\nDann melde dich an und filze mit uns um die Wette! Wir freuen uns auf einen entspannten und kreativen Nachmittag.
URL:https://wirsindfriedberg.de/veranstaltungen/kidsclub-im-juli-2
LOCATION:KreativWerkstatt Vereinsheim\, Weiherstr. 9 (Eingang: Ringstr.)\, Ried\, 86510\, Deutschland
END:VEVENT
END:VCALENDAR