BEGIN:VCALENDAR
VERSION:2.0
PRODID:-//WIR sind Friedberg i.G. | aus der Stadt für die Stadt &amp; von Bürgerschaft mit Organisationen - ECPv6.15.20//NONSGML v1.0//EN
CALSCALE:GREGORIAN
METHOD:PUBLISH
X-ORIGINAL-URL:https://wirsindfriedberg.de
X-WR-CALDESC:Veranstaltungen für WIR sind Friedberg i.G. | aus der Stadt für die Stadt &amp; von Bürgerschaft mit Organisationen
REFRESH-INTERVAL;VALUE=DURATION:PT1H
X-Robots-Tag:noindex
X-PUBLISHED-TTL:PT1H
BEGIN:VTIMEZONE
TZID:UTC
BEGIN:STANDARD
TZOFFSETFROM:+0000
TZOFFSETTO:+0000
TZNAME:UTC
DTSTART:20250101T000000
END:STANDARD
END:VTIMEZONE
BEGIN:VEVENT
DTSTART;TZID=UTC:20260731T160000
DTEND;TZID=UTC:20260731T200000
DTSTAMP:20260424T214052
CREATED:20260225T212901Z
LAST-MODIFIED:20260423T232857Z
UID:24494-1785513600-1785528000@wirsindfriedberg.de
SUMMARY:Gaming Night
DESCRIPTION:Bei unserer Gaming Night spielen wir gemeinsam Minecraft auf unserem eigenen Server. Egal ob Bauen\, Erkunden oder gemeinsam Abenteuer erleben – der Spaß steht im Mittelpunkt.\nFür die Stärkung zwischendurch gibt es Pizza und Getränke.Kommt vorbei\, spielt mit und verbringt einen entspannten Gaming-Abend mit der Community.\nWichtig für die Gaming Night:Bitte macht das Minecraft- und Windows-Update vorab zu Hause. Sonst ist unsere Bandbreite vor Ort schnell ausgelastet.\nWenn ihr einen Laptop benötigt\, schreibt bitte an info@kreativwerkstatt-ried.de\nBuchbar ab 31.05.2026
URL:https://wirsindfriedberg.de/veranstaltungen/gaming-night-4
LOCATION:KreativWerkstatt Vereinsheim\, Weiherstr. 9 (Eingang: Ringstr.)\, Ried\, 86510\, Deutschland
END:VEVENT
END:VCALENDAR