BEGIN:VCALENDAR
VERSION:2.0
PRODID:-//WIR sind Friedberg i.G. | aus der Stadt für die Stadt &amp; von Bürgerschaft mit Organisationen - ECPv6.15.20//NONSGML v1.0//EN
CALSCALE:GREGORIAN
METHOD:PUBLISH
X-WR-CALNAME:WIR sind Friedberg i.G. | aus der Stadt für die Stadt &amp; von Bürgerschaft mit Organisationen
X-ORIGINAL-URL:https://wirsindfriedberg.de
X-WR-CALDESC:Veranstaltungen für WIR sind Friedberg i.G. | aus der Stadt für die Stadt &amp; von Bürgerschaft mit Organisationen
REFRESH-INTERVAL;VALUE=DURATION:PT1H
X-Robots-Tag:noindex
X-PUBLISHED-TTL:PT1H
BEGIN:VTIMEZONE
TZID:Europe/Berlin
BEGIN:DAYLIGHT
TZOFFSETFROM:+0100
TZOFFSETTO:+0200
TZNAME:CEST
DTSTART:20230326T010000
END:DAYLIGHT
BEGIN:STANDARD
TZOFFSETFROM:+0200
TZOFFSETTO:+0100
TZNAME:CET
DTSTART:20231029T010000
END:STANDARD
BEGIN:DAYLIGHT
TZOFFSETFROM:+0100
TZOFFSETTO:+0200
TZNAME:CEST
DTSTART:20240331T010000
END:DAYLIGHT
BEGIN:STANDARD
TZOFFSETFROM:+0200
TZOFFSETTO:+0100
TZNAME:CET
DTSTART:20241027T010000
END:STANDARD
BEGIN:DAYLIGHT
TZOFFSETFROM:+0100
TZOFFSETTO:+0200
TZNAME:CEST
DTSTART:20250330T010000
END:DAYLIGHT
BEGIN:STANDARD
TZOFFSETFROM:+0200
TZOFFSETTO:+0100
TZNAME:CET
DTSTART:20251026T010000
END:STANDARD
END:VTIMEZONE
BEGIN:VEVENT
DTSTART;TZID=Europe/Berlin:20240201T000000
DTEND;TZID=Europe/Berlin:20240201T235959
DTSTAMP:20260424T190141
CREATED:20240114T193612Z
LAST-MODIFIED:20240201T105919Z
UID:8487-1706745600-1706831999@wirsindfriedberg.de
SUMMARY:📅 Helferkreis OEK Bachern Katastrophenschutz (Eisenbachtal)
DESCRIPTION:https://lra-aic-fdb.de/aktuelles/katastrophenschutz/
URL:https://wirsindfriedberg.de/veranstaltungen/%f0%9f%93%b0-helferkreis-oek-bachern-katastrophenschutz-eisenbachtal-3
LOCATION:Landratsamt Aichach-Friedberg\, Münchener Str. 9\, 86551 Aichach\, Deutschland
END:VEVENT
BEGIN:VEVENT
DTSTART;TZID=Europe/Berlin:20240201T000000
DTEND;TZID=Europe/Berlin:20240201T235959
DTSTAMP:20260424T190141
CREATED:20240114T193612Z
LAST-MODIFIED:20240201T105906Z
UID:8485-1706745600-1706831999@wirsindfriedberg.de
SUMMARY:📅 Helferkreis OEK Bachern IT-Support (Eisenbachtal)
DESCRIPTION:http://faq.friedberg-bachern.de
URL:https://wirsindfriedberg.de/veranstaltungen/%f0%9f%93%b0-helferkreis-oek-bachern-it-support-eisenbachtal-3
LOCATION:Ortsteil Bachern – Stadt Friedberg in Bayern\, Georgstraße\, 86316 Friedberg\, Deutschland
END:VEVENT
BEGIN:VEVENT
DTSTART;TZID=Europe/Berlin:20240201T071500
DTEND;TZID=Europe/Berlin:20240201T153000
DTSTAMP:20260424T190141
CREATED:20240114T193610Z
LAST-MODIFIED:20240201T105906Z
UID:8477-1706771700-1706801400@wirsindfriedberg.de
SUMMARY:🧒 Kindergarten Betreuung & Spielgruppen Eisenbachtal (Kinderangebote)
DESCRIPTION:https://www.pfarreiengemeinschaft-ottmaring.de/haus-des-kindes-st-hedwig/
URL:https://wirsindfriedberg.de/veranstaltungen/%f0%9f%a7%92-kindergarten-betreuung-spielgruppen-eisenbachtal-kinderangebote-14
LOCATION:Kindergarten St. Hedwig Bachern\, Steckstraße 2B\, 86316 Friedberg\, Deutschland
END:VEVENT
BEGIN:VEVENT
DTSTART;TZID=Europe/Berlin:20240201T080000
DTEND;TZID=Europe/Berlin:20240201T120000
DTSTAMP:20260424T190141
CREATED:20240114T193610Z
LAST-MODIFIED:20240201T105906Z
UID:8476-1706774400-1706788800@wirsindfriedberg.de
SUMMARY:🚐 Pilot Bürgerbus Ried mit OEK Bachern (Lebensmittel\, Post\, Bank\, Arzt\, Weißwurst)
DESCRIPTION:https://goo.gl/maps/X7Prisw2GQKCUiRo9
URL:https://wirsindfriedberg.de/veranstaltungen/%f0%9f%9a%90-pilot-buergerbus-ried-mit-oek-bachern-lebensmittel-post-bank-arzt-weisswurst-6
LOCATION:Dorfplatz Bürgerbus Ried (mit Bachern)\, Georgstraße\, 86316 Friedberg\, Deutschland
END:VEVENT
BEGIN:VEVENT
DTSTART;TZID=Europe/Berlin:20240201T083000
DTEND;TZID=Europe/Berlin:20240201T163000
DTSTAMP:20260424T190141
CREATED:20240114T193611Z
LAST-MODIFIED:20240201T105906Z
UID:8480-1706776200-1706805000@wirsindfriedberg.de
SUMMARY:🚐 Nachbarschaftshilfe Fahrdienst BEATE Bürgernetz Friedberg (Begleitete Einkaufsfahrten\, Arztbesuche und Termine mit dem Fahrdienst im Ehrenamt)
DESCRIPTION:http://www.buergernetz-friedberg.de
URL:https://wirsindfriedberg.de/veranstaltungen/%f0%9f%9a%90-nachbarschaftshilfe-fahrdienst-beate-buergernetz-friedberg-begleitete-einkaufsfahrten-arztbesuche-und-termine-mit-dem-fahrdienst-im-ehrenamt-14
LOCATION:Bürgernetz Friedberg\, Bahnhofstraße 28\, 86316 Friedberg\, Deutschland
END:VEVENT
BEGIN:VEVENT
DTSTART;TZID=Europe/Berlin:20240201T120000
DTEND;TZID=Europe/Berlin:20240201T130000
DTSTAMP:20260424T190141
CREATED:20240114T193611Z
LAST-MODIFIED:20240201T105906Z
UID:8478-1706788800-1706792400@wirsindfriedberg.de
SUMMARY:📅 MITTAGSTISCH Bürgernetz Friedberg Services (Senioren)
DESCRIPTION:http://www.buergernetz-friedberg.de
URL:https://wirsindfriedberg.de/veranstaltungen/%f0%9f%9a%90-mittagstisch-buergernetz-friedberg-services-senioren-3
LOCATION:Bürgernetz Friedberg\, Bahnhofstraße 28\, 86316 Friedberg\, Deutschland
END:VEVENT
BEGIN:VEVENT
DTSTART;TZID=Europe/Berlin:20240201T140000
DTEND;TZID=Europe/Berlin:20240201T160000
DTSTAMP:20260424T190141
CREATED:20240114T193611Z
LAST-MODIFIED:20240201T105906Z
UID:8479-1706796000-1706803200@wirsindfriedberg.de
SUMMARY:📅 REPAIR CAFÉ Bürgernetz Friedberg Services (Jung & Alt)
DESCRIPTION:http://www.buergernetz-friedberg.de
URL:https://wirsindfriedberg.de/veranstaltungen/%f0%9f%9a%90-repair-cafe-buergernetz-friedberg-services-jung-alt-3
LOCATION:Bürgernetz Friedberg\, Bahnhofstraße 28\, 86316 Friedberg\, Deutschland
END:VEVENT
BEGIN:VEVENT
DTSTART;TZID=Europe/Berlin:20240201T190000
DTEND;TZID=Europe/Berlin:20240201T220000
DTSTAMP:20260424T190141
CREATED:20240114T193611Z
LAST-MODIFIED:20240201T105906Z
UID:8481-1706814000-1706824800@wirsindfriedberg.de
SUMMARY:🏢 Beirat Friedberg & Aichach (Wittelsbacher Land)
DESCRIPTION:https://info.lra-aic-fdb.de/buergerinfo/info.php
URL:https://wirsindfriedberg.de/veranstaltungen/%f0%9f%8f%a2-beirat-friedberg-aichach-wittelsbacher-land-3
LOCATION:Landratsamt Aichach-Friedberg\, Münchener Str. 9\, 86551 Aichach\, Deutschland
END:VEVENT
BEGIN:VEVENT
DTSTART;TZID=Europe/Berlin:20240201T190000
DTEND;TZID=Europe/Berlin:20240201T220000
DTSTAMP:20260424T190141
CREATED:20240114T193611Z
LAST-MODIFIED:20240201T105906Z
UID:8482-1706814000-1706824800@wirsindfriedberg.de
SUMMARY:🏢 Stadtrat Friedberg (Eisenbachtal & Paartal)
DESCRIPTION:https://buergerinfo-friedberg.livingdata.de/info.asp?smcnavgroup=0
URL:https://wirsindfriedberg.de/veranstaltungen/%f0%9f%8f%a2-stadtrat-friedberg-eisenbachtal-paartal-3
LOCATION:Rathaus\, Marienpl. 1\, 86316 Friedberg\, Deutschland
END:VEVENT
BEGIN:VEVENT
DTSTART;TZID=Europe/Berlin:20240202T000000
DTEND;TZID=Europe/Berlin:20240202T235959
DTSTAMP:20260424T190141
CREATED:20240114T193611Z
LAST-MODIFIED:20240202T105912Z
UID:8484-1706832000-1706918399@wirsindfriedberg.de
SUMMARY:Restmülltonne in Friedberg
DESCRIPTION:
URL:https://wirsindfriedberg.de/veranstaltungen/restmuelltonne-in-friedberg-2
LOCATION:Friedberg; Neuer Postweg
END:VEVENT
BEGIN:VEVENT
DTSTART;TZID=Europe/Berlin:20240202T000000
DTEND;TZID=Europe/Berlin:20240202T235959
DTSTAMP:20260424T190141
CREATED:20240114T193612Z
LAST-MODIFIED:20240202T105911Z
UID:8486-1706832000-1706918399@wirsindfriedberg.de
SUMMARY:Gelbe Tonne in Friedberg
DESCRIPTION:
URL:https://wirsindfriedberg.de/veranstaltungen/gelbe-tonne-in-friedberg
LOCATION:Friedberg; Neuer Postweg
END:VEVENT
BEGIN:VEVENT
DTSTART;TZID=Europe/Berlin:20240202T000000
DTEND;TZID=Europe/Berlin:20240202T235959
DTSTAMP:20260424T190141
CREATED:20240114T193613Z
LAST-MODIFIED:20240202T105912Z
UID:8496-1706832000-1706918399@wirsindfriedberg.de
SUMMARY:📰 Feedback OEK Bachern Auswertungen (Bürgerbeteiligung)
DESCRIPTION:http://kpi.friedberg-bachern.de
URL:https://wirsindfriedberg.de/veranstaltungen/%f0%9f%93%b0-feedback-oek-bachern-auswertungen-buergerbeteiligung-3
LOCATION:Ortsteil Bachern – Stadt Friedberg in Bayern\, Georgstraße\, 86316 Friedberg\, Deutschland
END:VEVENT
BEGIN:VEVENT
DTSTART;TZID=Europe/Berlin:20240202T000000
DTEND;TZID=Europe/Berlin:20240202T235959
DTSTAMP:20260424T190141
CREATED:20240114T193614Z
LAST-MODIFIED:20240202T105924Z
UID:8500-1706832000-1706918399@wirsindfriedberg.de
SUMMARY:📰 Review OEK Bachern Konzeptentwurf (Bürgerbeteiligung)
DESCRIPTION:http://oek.friedberg-bachern.de
URL:https://wirsindfriedberg.de/veranstaltungen/%f0%9f%93%b0-review-oek-bachern-konzeptentwurf-buergerbeteiligung-3
LOCATION:Ortsteil Bachern – Stadt Friedberg in Bayern\, Georgstraße\, 86316 Friedberg\, Deutschland
END:VEVENT
BEGIN:VEVENT
DTSTART;TZID=Europe/Berlin:20240202T071500
DTEND;TZID=Europe/Berlin:20240202T153000
DTSTAMP:20260424T190141
CREATED:20240114T193611Z
LAST-MODIFIED:20240202T105912Z
UID:8483-1706858100-1706887800@wirsindfriedberg.de
SUMMARY:🧒 Kindergarten Betreuung & Spielgruppen Eisenbachtal (Kinderangebote)
DESCRIPTION:https://www.pfarreiengemeinschaft-ottmaring.de/haus-des-kindes-st-hedwig/
URL:https://wirsindfriedberg.de/veranstaltungen/%f0%9f%a7%92-kindergarten-betreuung-spielgruppen-eisenbachtal-kinderangebote-15
LOCATION:Kindergarten St. Hedwig Bachern\, Steckstraße 2B\, 86316 Friedberg\, Deutschland
END:VEVENT
BEGIN:VEVENT
DTSTART;TZID=Europe/Berlin:20240202T083000
DTEND;TZID=Europe/Berlin:20240202T163000
DTSTAMP:20260424T190141
CREATED:20240114T193612Z
LAST-MODIFIED:20240202T105912Z
UID:8488-1706862600-1706891400@wirsindfriedberg.de
SUMMARY:🚐 Nachbarschaftshilfe Fahrdienst BEATE Bürgernetz Friedberg (Begleitete Einkaufsfahrten\, Arztbesuche und Termine mit dem Fahrdienst im Ehrenamt)
DESCRIPTION:http://www.buergernetz-friedberg.de
URL:https://wirsindfriedberg.de/veranstaltungen/%f0%9f%9a%90-nachbarschaftshilfe-fahrdienst-beate-buergernetz-friedberg-begleitete-einkaufsfahrten-arztbesuche-und-termine-mit-dem-fahrdienst-im-ehrenamt-15
LOCATION:Bürgernetz Friedberg\, Bahnhofstraße 28\, 86316 Friedberg\, Deutschland
END:VEVENT
BEGIN:VEVENT
DTSTART;TZID=Europe/Berlin:20240202T183000
DTEND;TZID=Europe/Berlin:20240202T220000
DTSTAMP:20260424T190141
CREATED:20240114T193612Z
LAST-MODIFIED:20240202T105912Z
UID:8490-1706898600-1706911200@wirsindfriedberg.de
SUMMARY:🏅 Übungsschießen SGB Schützengemeinschaft Bachern e.V. (Jung & Alt)
DESCRIPTION:http://www.schuetzengemeinschaft-bachern.de
URL:https://wirsindfriedberg.de/veranstaltungen/%f0%9f%8f%85-uebungsschiessen-sgb-jung-alt-3
LOCATION:Schützengemeinschaft Bachern e.V.\, Asbacher Str. 11\, 86316 Friedberg\, Deutschland
END:VEVENT
BEGIN:VEVENT
DTSTART;TZID=Europe/Berlin:20240202T193000
DTEND;TZID=Europe/Berlin:20240202T210000
DTSTAMP:20260424T190141
CREATED:20240127T113729Z
LAST-MODIFIED:20240202T105912Z
UID:9261-1706902200-1706907600@wirsindfriedberg.de
SUMMARY:📅 Dorfstammtischtreffen OEK Bachern & Eisenbachtal (Jung & Alt)
DESCRIPTION:http://www.wirsindbachern.de
URL:https://wirsindfriedberg.de/veranstaltungen/%f0%9f%93%85-dorfstammtischtreffen-oek-bachern-eisenbachtal-jung-alt
LOCATION:Restaurant Aphrodite | Wirtshaus am Hochberg Bachern\, Asbacher Str. 11\, 86316 Friedberg\, Deutschland
END:VEVENT
BEGIN:VEVENT
DTSTART;TZID=Europe/Berlin:20240202T193000
DTEND;TZID=Europe/Berlin:20240202T220000
DTSTAMP:20260424T190141
CREATED:20240114T193612Z
LAST-MODIFIED:20240202T105912Z
UID:8489-1706902200-1706911200@wirsindfriedberg.de
SUMMARY:🚒 Übungen Plan FFWB Freiwillige Feuerwehr Bachern e.V. (Jung & Alt)
DESCRIPTION:http://www.ffw-bachern.de
URL:https://wirsindfriedberg.de/veranstaltungen/%f0%9f%9a%92-uebungen-plan-ffwb-jung-alt-3
LOCATION:Freiwillige Feuerwehr Bachern\, Neuer Postweg 1\, 86316 Friedberg\, Deutschland
END:VEVENT
BEGIN:VEVENT
DTSTART;TZID=Europe/Berlin:20240203T000000
DTEND;TZID=Europe/Berlin:20240203T235959
DTSTAMP:20260424T190141
CREATED:20240114T193613Z
LAST-MODIFIED:20240203T111621Z
UID:8495-1706918400-1707004799@wirsindfriedberg.de
SUMMARY:📅 Arbeitskreis Region OEK Erlauholz #Initiative Rückenwind (Jung & Alt)
DESCRIPTION:http://www.erlauholz.de
URL:https://wirsindfriedberg.de/veranstaltungen/%f0%9f%93%b0-arbeitskreis-region-oek-erlauholz-initiative-rueckenwind-jung-alt-3
LOCATION:Bürgerinitiative Rückenwind fürs Erlauholz e.V.\, St2379\, 86316 Friedberg\, Deutschland
END:VEVENT
BEGIN:VEVENT
DTSTART;TZID=Europe/Berlin:20240203T000000
DTEND;TZID=Europe/Berlin:20240203T235959
DTSTAMP:20260424T190141
CREATED:20240114T193614Z
LAST-MODIFIED:20240203T111621Z
UID:8499-1706918400-1707004799@wirsindfriedberg.de
SUMMARY:📅 Arbeitskreis Region OEK Eisenbachtal #Gern Dahoam (Jung & Alt)
DESCRIPTION:http://www.eisenbachtal.info
URL:https://wirsindfriedberg.de/veranstaltungen/%f0%9f%93%b0-arbeitskreis-region-oek-eisenbachtal-gern-dahoam-jung-alt-3
LOCATION:Bürgerinitiative & Förderverein Erlauholz & Eisenbach Tal i.G.\, Neuer Postweg\, 86316 Friedberg\, Deutschland
END:VEVENT
BEGIN:VEVENT
DTSTART;TZID=Europe/Berlin:20240203T080000
DTEND;TZID=Europe/Berlin:20240203T200000
DTSTAMP:20260424T190141
CREATED:20240114T193613Z
LAST-MODIFIED:20240203T111622Z
UID:8497-1706947200-1706990400@wirsindfriedberg.de
SUMMARY:🍲 Dorfplatz Dorfladenbox Eisenbachtal (regionale Produkte & Services)
DESCRIPTION:http://dorfladenbox.friedberg-bachern.de
URL:https://wirsindfriedberg.de/veranstaltungen/%f0%9f%9a%90-dorfplatz-dorfladenbox-eisenbachtal-regionale-produkte-services-3
LOCATION:Dorfplatz Dorfladenbox (Automat) Bachern\, Neuer Postweg\, 86316 Friedberg\, Deutschland
END:VEVENT
BEGIN:VEVENT
DTSTART;TZID=Europe/Berlin:20240203T100000
DTEND;TZID=Europe/Berlin:20240203T150000
DTSTAMP:20260424T190141
CREATED:20240114T193614Z
LAST-MODIFIED:20240203T111621Z
UID:8501-1706954400-1706972400@wirsindfriedberg.de
SUMMARY:📅 Event Dorfflohmarkt mit Food-To-Go im Eisenbachtal (Ried\, Bachern\, Rohrbach)
DESCRIPTION:http://dorfflohmarkt.friedberg-bachern.de
URL:https://wirsindfriedberg.de/veranstaltungen/%f0%9f%93%85-event-dorfflohmarkt-mit-food-to-go-im-eisenbachtal-ried-bachern-rohrbach-3
LOCATION:Dorfflohmarkt & Food-to-Go Selling Lovers & OEK Arbeitskreis Bachern Eisenbachtal\, Neuer Postweg\, 86316 Friedberg\, Deutschland
END:VEVENT
BEGIN:VEVENT
DTSTART;TZID=Europe/Berlin:20240203T140000
DTEND;TZID=Europe/Berlin:20240203T150000
DTSTAMP:20260424T190141
CREATED:20240114T193612Z
LAST-MODIFIED:20240203T111621Z
UID:8491-1706968800-1706972400@wirsindfriedberg.de
SUMMARY:📅 Jahresprogramm OGVB Obst- und Gartenbauverein Bachern-Rohrbach e.V. (Jung & Alt)
DESCRIPTION:http://ogv.friedberg-bachern.de/
URL:https://wirsindfriedberg.de/veranstaltungen/%f0%9f%93%85-jahresprogramm-obst-und-gartenbauverein-bachern-rohrbach-e-v-jung-alt-3
LOCATION:Obst- und Gartenbauverein Bachern-Rohrbach e. V.\, Gastlstraße\, 86316 Friedberg\, Deutschland
END:VEVENT
BEGIN:VEVENT
DTSTART;TZID=Europe/Berlin:20240203T190000
DTEND;TZID=Europe/Berlin:20240203T210000
DTSTAMP:20260424T190141
CREATED:20240114T193613Z
LAST-MODIFIED:20240203T111622Z
UID:8498-1706986800-1706994000@wirsindfriedberg.de
SUMMARY:📅 Jahresprogramm LJB Landjugend Bachern e.V. (Jugend)
DESCRIPTION:http://www.landjugend-bachern.de
URL:https://wirsindfriedberg.de/veranstaltungen/%f0%9f%93%85-jahresprogramm-landjugend-bachern-e-v-jugend-3
LOCATION:Landjugend Bachern e.V.\, Neuer Postweg 1\, 86316 Friedberg\, Deutschland
END:VEVENT
BEGIN:VEVENT
DTSTART;TZID=Europe/Berlin:20240204T000000
DTEND;TZID=Europe/Berlin:20240204T235959
DTSTAMP:20260424T190141
CREATED:20240114T193613Z
LAST-MODIFIED:20240204T111652Z
UID:8492-1707004800-1707091199@wirsindfriedberg.de
SUMMARY:📰 Eintragung von Terminen der Organisationen (OEK Bachern Eisenbachtal)
DESCRIPTION:http://events.friedberg-bachern.de/
URL:https://wirsindfriedberg.de/veranstaltungen/%f0%9f%93%85-eintragung-von-terminen-der-organisationen-oek-bachern-eisenbachtal-4
LOCATION:Ortsteil Bachern – Stadt Friedberg in Bayern\, Georgstraße\, 86316 Friedberg\, Deutschland
END:VEVENT
BEGIN:VEVENT
DTSTART;TZID=Europe/Berlin:20240204T000000
DTEND;TZID=Europe/Berlin:20240204T235959
DTSTAMP:20260424T190141
CREATED:20240114T193613Z
LAST-MODIFIED:20240204T111652Z
UID:8493-1707004800-1707091199@wirsindfriedberg.de
SUMMARY:📰 Download OEK Bachern Smartphone App iOS & Android (Bürgerbeteiligung)
DESCRIPTION:http://app.friedberg-bachern.de
URL:https://wirsindfriedberg.de/veranstaltungen/%f0%9f%93%b0-download-oek-bachern-smartphone-app-ios-android-buergerbeteiligung-4
LOCATION:Ortsteil Bachern – Stadt Friedberg in Bayern\, Georgstraße\, 86316 Friedberg\, Deutschland
END:VEVENT
BEGIN:VEVENT
DTSTART;TZID=Europe/Berlin:20240204T000000
DTEND;TZID=Europe/Berlin:20240204T235959
DTSTAMP:20260424T190141
CREATED:20240114T193613Z
LAST-MODIFIED:20240204T111652Z
UID:8494-1707004800-1707091199@wirsindfriedberg.de
SUMMARY:📰 Veranstaltungen der Organisationen Eisenbachtal (OEK Bachern Eisenbachtal)
DESCRIPTION:http://kalender.friedberg-bachern.de/
URL:https://wirsindfriedberg.de/veranstaltungen/%f0%9f%93%85-veranstaltungen-der-organisationen-eisenbachtal-oek-bachern-eisenbachtal-4
LOCATION:Ortsteil Bachern – Stadt Friedberg in Bayern\, Georgstraße\, 86316 Friedberg\, Deutschland
END:VEVENT
BEGIN:VEVENT
DTSTART;TZID=Europe/Berlin:20240204T000000
DTEND;TZID=Europe/Berlin:20240204T235959
DTSTAMP:20260424T190141
CREATED:20240114T193614Z
LAST-MODIFIED:20240204T111653Z
UID:8503-1707004800-1707091199@wirsindfriedberg.de
SUMMARY:📰 Anmeldung OEK Bachern WhatsApp Gruppe Ticker (Bürgerbeteiligung)
DESCRIPTION:http://whatsapp.friedberg-bachern.de
URL:https://wirsindfriedberg.de/veranstaltungen/%f0%9f%93%b0-anmeldung-oek-bachern-whatsapp-gruppe-ticker-buergerbeteiligung-4
LOCATION:Ortsteil Bachern – Stadt Friedberg in Bayern\, Georgstraße\, 86316 Friedberg\, Deutschland
END:VEVENT
BEGIN:VEVENT
DTSTART;TZID=Europe/Berlin:20240204T090000
DTEND;TZID=Europe/Berlin:20240204T110000
DTSTAMP:20260424T190141
CREATED:20240114T193614Z
LAST-MODIFIED:20240203T111634Z
UID:8505-1707037200-1707044400@wirsindfriedberg.de
SUMMARY:⛪ Gottesdienste der Pfarrei Ottmaring-Bachern-Rohrbach (Jung & Alt)
DESCRIPTION:https://www.pfarreiengemeinschaft-ottmaring.de/gottesdienste/
URL:https://wirsindfriedberg.de/veranstaltungen/%e2%9b%aa-gottesdienste-der-pfarrei-ottmaring-bachern-rohrbach-jung-alt-3
LOCATION:Pfarreiengemeinschaft Ottmaring\, St.-Michaels-Platz 7\, 86316 Friedberg\, Deutschland
END:VEVENT
BEGIN:VEVENT
DTSTART;TZID=Europe/Berlin:20240204T100000
DTEND;TZID=Europe/Berlin:20240204T120000
DTSTAMP:20260424T190141
CREATED:20240114T193614Z
LAST-MODIFIED:20240203T111634Z
UID:8504-1707040800-1707048000@wirsindfriedberg.de
SUMMARY:📅 Frühschoppentreff Bachern (Jung & Alt)
DESCRIPTION:http://www.wirsindbachern.de
URL:https://wirsindfriedberg.de/veranstaltungen/%f0%9f%93%b0-fruehschoppen-bachern-jung-alt-3
LOCATION:Restaurant Aphrodite | Wirtshaus am Hochberg Bachern\, Asbacher Str. 11\, 86316 Friedberg\, Deutschland
END:VEVENT
END:VCALENDAR