BEGIN:VCALENDAR
VERSION:2.0
PRODID:-//WIR sind Friedberg i.G. | aus der Stadt für die Stadt &amp; von Bürgerschaft mit Organisationen - ECPv6.15.20//NONSGML v1.0//EN
CALSCALE:GREGORIAN
METHOD:PUBLISH
X-ORIGINAL-URL:https://wirsindfriedberg.de
X-WR-CALDESC:Veranstaltungen für WIR sind Friedberg i.G. | aus der Stadt für die Stadt &amp; von Bürgerschaft mit Organisationen
REFRESH-INTERVAL;VALUE=DURATION:PT1H
X-Robots-Tag:noindex
X-PUBLISHED-TTL:PT1H
BEGIN:VTIMEZONE
TZID:Europe/Berlin
BEGIN:DAYLIGHT
TZOFFSETFROM:+0100
TZOFFSETTO:+0200
TZNAME:CEST
DTSTART:20230326T010000
END:DAYLIGHT
BEGIN:STANDARD
TZOFFSETFROM:+0200
TZOFFSETTO:+0100
TZNAME:CET
DTSTART:20231029T010000
END:STANDARD
BEGIN:DAYLIGHT
TZOFFSETFROM:+0100
TZOFFSETTO:+0200
TZNAME:CEST
DTSTART:20240331T010000
END:DAYLIGHT
BEGIN:STANDARD
TZOFFSETFROM:+0200
TZOFFSETTO:+0100
TZNAME:CET
DTSTART:20241027T010000
END:STANDARD
BEGIN:DAYLIGHT
TZOFFSETFROM:+0100
TZOFFSETTO:+0200
TZNAME:CEST
DTSTART:20250330T010000
END:DAYLIGHT
BEGIN:STANDARD
TZOFFSETFROM:+0200
TZOFFSETTO:+0100
TZNAME:CET
DTSTART:20251026T010000
END:STANDARD
END:VTIMEZONE
BEGIN:VEVENT
DTSTART;TZID=Europe/Berlin:20240301T000000
DTEND;TZID=Europe/Berlin:20240301T235959
DTSTAMP:20260424T162027
CREATED:20240120T103135Z
LAST-MODIFIED:20240301T104427Z
UID:9026-1709251200-1709337599@wirsindfriedberg.de
SUMMARY:Restmülltonne in Friedberg
DESCRIPTION:
URL:https://wirsindfriedberg.de/veranstaltungen/restmuelltonne-in-friedberg-4
LOCATION:Friedberg; Neuer Postweg
END:VEVENT
BEGIN:VEVENT
DTSTART;TZID=Europe/Berlin:20240301T000000
DTEND;TZID=Europe/Berlin:20240301T235959
DTSTAMP:20260424T162027
CREATED:20240120T103136Z
LAST-MODIFIED:20240301T104427Z
UID:9035-1709251200-1709337599@wirsindfriedberg.de
SUMMARY:Gelbe Tonne in Friedberg
DESCRIPTION:
URL:https://wirsindfriedberg.de/veranstaltungen/gelbe-tonne-in-friedberg-2
LOCATION:Friedberg; Neuer Postweg
END:VEVENT
BEGIN:VEVENT
DTSTART;TZID=Europe/Berlin:20240301T000000
DTEND;TZID=Europe/Berlin:20240301T235959
DTSTAMP:20260424T162027
CREATED:20240120T103136Z
LAST-MODIFIED:20240301T104427Z
UID:9037-1709251200-1709337599@wirsindfriedberg.de
SUMMARY:📰 Feedback OEK Bachern Auswertungen (Bürgerbeteiligung)
DESCRIPTION:http://kpi.friedberg-bachern.de
URL:https://wirsindfriedberg.de/veranstaltungen/%f0%9f%93%b0-feedback-oek-bachern-auswertungen-buergerbeteiligung-7
LOCATION:Ortsteil Bachern – Stadt Friedberg in Bayern\, Georgstraße\, 86316 Friedberg\, Deutschland
END:VEVENT
BEGIN:VEVENT
DTSTART;TZID=Europe/Berlin:20240301T000000
DTEND;TZID=Europe/Berlin:20240301T235959
DTSTAMP:20260424T162027
CREATED:20240121T103158Z
LAST-MODIFIED:20240301T104427Z
UID:9046-1709251200-1709337599@wirsindfriedberg.de
SUMMARY:📰 Review OEK Bachern Konzeptentwurf (Bürgerbeteiligung)
DESCRIPTION:http://oek.friedberg-bachern.de
URL:https://wirsindfriedberg.de/veranstaltungen/%f0%9f%93%b0-review-oek-bachern-konzeptentwurf-buergerbeteiligung-7
LOCATION:Ortsteil Bachern – Stadt Friedberg in Bayern\, Georgstraße\, 86316 Friedberg\, Deutschland
END:VEVENT
BEGIN:VEVENT
DTSTART;TZID=Europe/Berlin:20240301T071500
DTEND;TZID=Europe/Berlin:20240301T153000
DTSTAMP:20260424T162027
CREATED:20240120T103136Z
LAST-MODIFIED:20240301T104426Z
UID:9038-1709277300-1709307000@wirsindfriedberg.de
SUMMARY:🧒 Kindergarten Betreuung & Spielgruppen Bachern (Kinderangebote)
DESCRIPTION:https://www.pfarreiengemeinschaft-ottmaring.de/haus-des-kindes-st-hedwig/
URL:https://wirsindfriedberg.de/veranstaltungen/%f0%9f%a7%92-kindergarten-betreuung-spielgruppen-eisenbachtal-kinderangebote-35
LOCATION:Kindergarten St. Hedwig Bachern\, Steckstraße 2B\, 86316 Friedberg\, Deutschland
END:VEVENT
BEGIN:VEVENT
DTSTART;TZID=Europe/Berlin:20240301T083000
DTEND;TZID=Europe/Berlin:20240301T163000
DTSTAMP:20260424T162027
CREATED:20240120T103136Z
LAST-MODIFIED:20240301T104427Z
UID:9036-1709281800-1709310600@wirsindfriedberg.de
SUMMARY:🚐 Nachbarschaftshilfe Fahrdienst BEATE Bürgernetz Friedberg (Begleitete Einkaufsfahrten\, Arztbesuche und Termine mit dem Fahrdienst im Ehrenamt)
DESCRIPTION:http://www.buergernetz-friedberg.de
URL:https://wirsindfriedberg.de/veranstaltungen/%f0%9f%9a%90-nachbarschaftshilfe-fahrdienst-beate-buergernetz-friedberg-begleitete-einkaufsfahrten-arztbesuche-und-termine-mit-dem-fahrdienst-im-ehrenamt-35
LOCATION:Bürgernetz Friedberg\, Bahnhofstraße 28\, 86316 Friedberg\, Deutschland
END:VEVENT
BEGIN:VEVENT
DTSTART;TZID=Europe/Berlin:20240301T183000
DTEND;TZID=Europe/Berlin:20240301T220000
DTSTAMP:20260424T162027
CREATED:20240121T103159Z
LAST-MODIFIED:20240301T104427Z
UID:9047-1709317800-1709330400@wirsindfriedberg.de
SUMMARY:🏅 Übungsschießen SGB Schützengemeinschaft Bachern e.V. (Jung & Alt)
DESCRIPTION:http://www.schuetzengemeinschaft-bachern.de
URL:https://wirsindfriedberg.de/veranstaltungen/%f0%9f%8f%85-uebungsschiessen-sgb-jung-alt-7
LOCATION:Schützengemeinschaft Bachern e.V.\, Asbacher Str. 11\, 86316 Friedberg\, Deutschland
END:VEVENT
BEGIN:VEVENT
DTSTART;TZID=Europe/Berlin:20240301T193000
DTEND;TZID=Europe/Berlin:20240301T210000
DTSTAMP:20260424T162027
CREATED:20240127T113750Z
LAST-MODIFIED:20240301T104426Z
UID:9269-1709321400-1709326800@wirsindfriedberg.de
SUMMARY:📅 Dorfstammtischtreffen OEK Bachern & Eisenbachtal (Jung & Alt)
DESCRIPTION:http://www.wirsindbachern.de
URL:https://wirsindfriedberg.de/veranstaltungen/%f0%9f%93%85-dorfstammtischtreffen-oek-bachern-eisenbachtal-jung-alt-5
LOCATION:Restaurant Aphrodite | Wirtshaus am Hochberg Bachern\, Asbacher Str. 11\, 86316 Friedberg\, Deutschland
END:VEVENT
BEGIN:VEVENT
DTSTART;TZID=Europe/Berlin:20240301T193000
DTEND;TZID=Europe/Berlin:20240301T220000
DTSTAMP:20260424T162027
CREATED:20240121T103159Z
LAST-MODIFIED:20240301T104439Z
UID:9048-1709321400-1709330400@wirsindfriedberg.de
SUMMARY:🚒 Übungen Plan FFWB Freiwillige Feuerwehr Bachern e.V. (Jung & Alt)
DESCRIPTION:http://www.ffw-bachern.de
URL:https://wirsindfriedberg.de/veranstaltungen/%f0%9f%9a%92-uebungen-plan-ffwb-jung-alt-7
LOCATION:Freiwillige Feuerwehr Bachern\, Neuer Postweg 1\, 86316 Friedberg\, Deutschland
END:VEVENT
BEGIN:VEVENT
DTSTART;TZID=Europe/Berlin:20240302T000000
DTEND;TZID=Europe/Berlin:20240302T235959
DTSTAMP:20260424T162027
CREATED:20240121T103159Z
LAST-MODIFIED:20240302T104515Z
UID:9050-1709337600-1709423999@wirsindfriedberg.de
SUMMARY:📅 Arbeitskreis Region OEK Erlauholz #Initiative Rückenwind (Jung & Alt)
DESCRIPTION:http://www.erlauholz.de
URL:https://wirsindfriedberg.de/veranstaltungen/%f0%9f%93%b0-arbeitskreis-region-oek-erlauholz-initiative-rueckenwind-jung-alt-7
LOCATION:Bürgerinitiative Rückenwind fürs Erlauholz e.V.\, St2379\, 86316 Friedberg\, Deutschland
END:VEVENT
BEGIN:VEVENT
DTSTART;TZID=Europe/Berlin:20240302T000000
DTEND;TZID=Europe/Berlin:20240302T235959
DTSTAMP:20260424T162027
CREATED:20240122T103502Z
LAST-MODIFIED:20240302T104514Z
UID:9060-1709337600-1709423999@wirsindfriedberg.de
SUMMARY:📅 Arbeitskreis Region OEK Eisenbachtal #Gern Dahoam (Jung & Alt)
DESCRIPTION:http://www.eisenbachtal.info
URL:https://wirsindfriedberg.de/veranstaltungen/%f0%9f%93%b0-arbeitskreis-region-oek-eisenbachtal-gern-dahoam-jung-alt-7
LOCATION:Bürgerinitiative & Förderverein Erlauholz & Eisenbach Tal i.G.\, Neuer Postweg\, 86316 Friedberg\, Deutschland
END:VEVENT
BEGIN:VEVENT
DTSTART;TZID=Europe/Berlin:20240302T080000
DTEND;TZID=Europe/Berlin:20240302T200000
DTSTAMP:20260424T162027
CREATED:20240121T103159Z
LAST-MODIFIED:20240302T104514Z
UID:9049-1709366400-1709409600@wirsindfriedberg.de
SUMMARY:🍲 Dorfplatz Dorfladenbox Eisenbachtal (regionale Produkte & Services)
DESCRIPTION:http://dorfladenbox.friedberg-bachern.de
URL:https://wirsindfriedberg.de/veranstaltungen/%f0%9f%9a%90-dorfplatz-dorfladenbox-eisenbachtal-regionale-produkte-services-7
LOCATION:Dorfplatz Dorfladenbox (Automat) Bachern\, Neuer Postweg\, 86316 Friedberg\, Deutschland
END:VEVENT
BEGIN:VEVENT
DTSTART;TZID=Europe/Berlin:20240302T100000
DTEND;TZID=Europe/Berlin:20240302T150000
DTSTAMP:20260424T162027
CREATED:20240121T103159Z
LAST-MODIFIED:20240302T104514Z
UID:9052-1709373600-1709391600@wirsindfriedberg.de
SUMMARY:📅 Event Dorfflohmarkt mit Food-To-Go im Eisenbachtal (Ried\, Bachern\, Rohrbach)
DESCRIPTION:http://dorfflohmarkt.friedberg-bachern.de
URL:https://wirsindfriedberg.de/veranstaltungen/%f0%9f%93%85-event-dorfflohmarkt-mit-food-to-go-im-eisenbachtal-ried-bachern-rohrbach-7
LOCATION:Dorfflohmarkt & Food-to-Go Selling Lovers & OEK Arbeitskreis Bachern Eisenbachtal\, Neuer Postweg\, 86316 Friedberg\, Deutschland
END:VEVENT
BEGIN:VEVENT
DTSTART;TZID=Europe/Berlin:20240302T140000
DTEND;TZID=Europe/Berlin:20240302T150000
DTSTAMP:20260424T162027
CREATED:20240121T103159Z
LAST-MODIFIED:20240302T104514Z
UID:9051-1709388000-1709391600@wirsindfriedberg.de
SUMMARY:📅 Jahresprogramm OGVB Obst- und Gartenbauverein Bachern-Rohrbach e.V. (Jung & Alt)
DESCRIPTION:http://ogv.friedberg-bachern.de/
URL:https://wirsindfriedberg.de/veranstaltungen/%f0%9f%93%85-jahresprogramm-obst-und-gartenbauverein-bachern-rohrbach-e-v-jung-alt-7
LOCATION:Obst- und Gartenbauverein Bachern-Rohrbach e. V.\, Gastlstraße\, 86316 Friedberg\, Deutschland
END:VEVENT
BEGIN:VEVENT
DTSTART;TZID=Europe/Berlin:20240302T190000
DTEND;TZID=Europe/Berlin:20240302T210000
DTSTAMP:20260424T162027
CREATED:20240121T103159Z
LAST-MODIFIED:20240302T104515Z
UID:9053-1709406000-1709413200@wirsindfriedberg.de
SUMMARY:📅 Jahresprogramm LJB Landjugend Bachern e.V. (Jugend)
DESCRIPTION:http://www.landjugend-bachern.de
URL:https://wirsindfriedberg.de/veranstaltungen/%f0%9f%93%85-jahresprogramm-landjugend-bachern-e-v-jugend-7
LOCATION:Landjugend Bachern e.V.\, Neuer Postweg 1\, 86316 Friedberg\, Deutschland
END:VEVENT
BEGIN:VEVENT
DTSTART;TZID=Europe/Berlin:20240303T000000
DTEND;TZID=Europe/Berlin:20240303T235959
DTSTAMP:20260424T162027
CREATED:20240122T103503Z
LAST-MODIFIED:20240303T104540Z
UID:9065-1709424000-1709510399@wirsindfriedberg.de
SUMMARY:📰 Eintragung von Terminen der Organisationen (OEK Bachern Eisenbachtal)
DESCRIPTION:http://events.friedberg-bachern.de/
URL:https://wirsindfriedberg.de/veranstaltungen/%f0%9f%93%85-eintragung-von-terminen-der-organisationen-oek-bachern-eisenbachtal-8
LOCATION:Ortsteil Bachern – Stadt Friedberg in Bayern\, Georgstraße\, 86316 Friedberg\, Deutschland
END:VEVENT
BEGIN:VEVENT
DTSTART;TZID=Europe/Berlin:20240303T000000
DTEND;TZID=Europe/Berlin:20240303T235959
DTSTAMP:20260424T162027
CREATED:20240122T103503Z
LAST-MODIFIED:20240303T104541Z
UID:9064-1709424000-1709510399@wirsindfriedberg.de
SUMMARY:📰 Veranstaltungen der Organisationen Eisenbachtal (OEK Bachern Eisenbachtal)
DESCRIPTION:http://kalender.friedberg-bachern.de/
URL:https://wirsindfriedberg.de/veranstaltungen/%f0%9f%93%85-veranstaltungen-der-organisationen-eisenbachtal-oek-bachern-eisenbachtal-8
LOCATION:Ortsteil Bachern – Stadt Friedberg in Bayern\, Georgstraße\, 86316 Friedberg\, Deutschland
END:VEVENT
BEGIN:VEVENT
DTSTART;TZID=Europe/Berlin:20240303T000000
DTEND;TZID=Europe/Berlin:20240303T235959
DTSTAMP:20260424T162027
CREATED:20240123T104442Z
LAST-MODIFIED:20240303T104540Z
UID:9071-1709424000-1709510399@wirsindfriedberg.de
SUMMARY:📰 Anmeldung OEK Bachern WhatsApp Gruppe Ticker (Bürgerbeteiligung)
DESCRIPTION:http://whatsapp.friedberg-bachern.de
URL:https://wirsindfriedberg.de/veranstaltungen/%f0%9f%93%b0-anmeldung-oek-bachern-whatsapp-gruppe-ticker-buergerbeteiligung-8
LOCATION:Ortsteil Bachern – Stadt Friedberg in Bayern\, Georgstraße\, 86316 Friedberg\, Deutschland
END:VEVENT
BEGIN:VEVENT
DTSTART;TZID=Europe/Berlin:20240303T000000
DTEND;TZID=Europe/Berlin:20240303T235959
DTSTAMP:20260424T162027
CREATED:20240123T104443Z
LAST-MODIFIED:20240303T104541Z
UID:9075-1709424000-1709510399@wirsindfriedberg.de
SUMMARY:📰 Download OEK Bachern Smartphone App iOS & Android (Bürgerbeteiligung)
DESCRIPTION:http://app.friedberg-bachern.de
URL:https://wirsindfriedberg.de/veranstaltungen/%f0%9f%93%b0-download-oek-bachern-smartphone-app-ios-android-buergerbeteiligung-8
LOCATION:Ortsteil Bachern – Stadt Friedberg in Bayern\, Georgstraße\, 86316 Friedberg\, Deutschland
END:VEVENT
BEGIN:VEVENT
DTSTART;TZID=Europe/Berlin:20240303T090000
DTEND;TZID=Europe/Berlin:20240303T110000
DTSTAMP:20260424T162027
CREATED:20240122T103503Z
LAST-MODIFIED:20240302T104515Z
UID:9067-1709456400-1709463600@wirsindfriedberg.de
SUMMARY:⛪ Gottesdienste der Pfarrei Ottmaring-Bachern-Rohrbach (Jung & Alt)
DESCRIPTION:https://www.pfarreiengemeinschaft-ottmaring.de/gottesdienste/
URL:https://wirsindfriedberg.de/veranstaltungen/%e2%9b%aa-gottesdienste-der-pfarrei-ottmaring-bachern-rohrbach-jung-alt-7
LOCATION:Pfarreiengemeinschaft Ottmaring\, St.-Michaels-Platz 7\, 86316 Friedberg\, Deutschland
END:VEVENT
BEGIN:VEVENT
DTSTART;TZID=Europe/Berlin:20240303T100000
DTEND;TZID=Europe/Berlin:20240303T120000
DTSTAMP:20260424T162027
CREATED:20240122T103503Z
LAST-MODIFIED:20240303T104540Z
UID:9068-1709460000-1709467200@wirsindfriedberg.de
SUMMARY:📅 Frühschoppentreff Bachern (Jung & Alt)
DESCRIPTION:http://www.wirsindbachern.de
URL:https://wirsindfriedberg.de/veranstaltungen/%f0%9f%93%b0-fruehschoppen-bachern-jung-alt-7
LOCATION:Restaurant Aphrodite | Wirtshaus am Hochberg Bachern\, Asbacher Str. 11\, 86316 Friedberg\, Deutschland
END:VEVENT
BEGIN:VEVENT
DTSTART;TZID=Europe/Berlin:20240303T130000
DTEND;TZID=Europe/Berlin:20240303T180000
DTSTAMP:20260424T162027
CREATED:20240122T103504Z
LAST-MODIFIED:20240303T104541Z
UID:9069-1709470800-1709488800@wirsindfriedberg.de
SUMMARY:⚽ Fußball Spieltag SFB Sport-Freunde Bachern e.V. (Jung & Alt)
DESCRIPTION:http://www.sfbachern.de
URL:https://wirsindfriedberg.de/veranstaltungen/%e2%9a%bd-fussball-spieltage-sfb-jung-alt-7
LOCATION:Sport-Freunde Bachern e.V.\, Asbacher Str. 11\, 86316 Friedberg\, Deutschland
END:VEVENT
BEGIN:VEVENT
DTSTART;TZID=Europe/Berlin:20240303T190000
DTEND;TZID=Europe/Berlin:20240303T203000
DTSTAMP:20260424T162027
CREATED:20240122T103503Z
LAST-MODIFIED:20240124T104651Z
UID:9063-1709492400-1709497800@wirsindfriedberg.de
SUMMARY:📰 Dorfstammtisch- & Arbeitskreistreffen OEK Bachern & Eisenbachtal (Jung & Alt)
DESCRIPTION:http://www.wirsindbachern.de
URL:https://wirsindfriedberg.de/veranstaltungen/%f0%9f%93%b0-dorfstammtisch-arbeitskreistreffen-oek-bachern-eisenbachtal-jung-alt-7
LOCATION:Restaurant Aphrodite | Wirtshaus am Hochberg Bachern\, Asbacher Str. 11\, 86316 Friedberg\, Deutschland
END:VEVENT
BEGIN:VEVENT
DTSTART;TZID=Europe/Berlin:20240304T000000
DTEND;TZID=Europe/Berlin:20240304T235959
DTSTAMP:20260424T162027
CREATED:20240123T104444Z
LAST-MODIFIED:20240304T104417Z
UID:9082-1709510400-1709596799@wirsindfriedberg.de
SUMMARY:📰 Abstimmungen OEK Bachern Umfragen (Bürgerbeteiligung)
DESCRIPTION:http://umfragen.friedberg-bachern.de
URL:https://wirsindfriedberg.de/veranstaltungen/%f0%9f%93%b0-abstimmungen-oek-bachern-umfragen-buergerbeteiligung-8
LOCATION:Ortsteil Bachern – Stadt Friedberg in Bayern\, Georgstraße\, 86316 Friedberg\, Deutschland
END:VEVENT
BEGIN:VEVENT
DTSTART;TZID=Europe/Berlin:20240304T000000
DTEND;TZID=Europe/Berlin:20240304T235959
DTSTAMP:20260424T162027
CREATED:20240124T104652Z
LAST-MODIFIED:20240304T104416Z
UID:9121-1709510400-1709596799@wirsindfriedberg.de
SUMMARY:📰 Vorschläge OEK Bachern Wünsche (Bürgerbeteiligung)
DESCRIPTION:http://wuensche.friedberg-bachern.de
URL:https://wirsindfriedberg.de/veranstaltungen/%f0%9f%93%b0-vorschlaege-oek-bachern-wuensche-buergerbeteiligung-8
LOCATION:Ortsteil Bachern – Stadt Friedberg in Bayern\, Georgstraße\, 86316 Friedberg\, Deutschland
END:VEVENT
BEGIN:VEVENT
DTSTART;TZID=Europe/Berlin:20240304T000000
DTEND;TZID=Europe/Berlin:20240304T235959
DTSTAMP:20260424T162027
CREATED:20240124T104652Z
LAST-MODIFIED:20240304T104428Z
UID:9122-1709510400-1709596799@wirsindfriedberg.de
SUMMARY:Papiertonne in Friedberg
DESCRIPTION:
URL:https://wirsindfriedberg.de/veranstaltungen/papiertonne-in-friedberg-2
LOCATION:Friedberg; Neuer Postweg
END:VEVENT
BEGIN:VEVENT
DTSTART;TZID=Europe/Berlin:20240304T071500
DTEND;TZID=Europe/Berlin:20240304T153000
DTSTAMP:20260424T162027
CREATED:20240123T104444Z
LAST-MODIFIED:20240304T104417Z
UID:9081-1709536500-1709566200@wirsindfriedberg.de
SUMMARY:🧒 Kindergarten Betreuung & Spielgruppen Bachern (Kinderangebote)
DESCRIPTION:https://www.pfarreiengemeinschaft-ottmaring.de/haus-des-kindes-st-hedwig/
URL:https://wirsindfriedberg.de/veranstaltungen/%f0%9f%a7%92-kindergarten-betreuung-spielgruppen-eisenbachtal-kinderangebote-36
LOCATION:Kindergarten St. Hedwig Bachern\, Steckstraße 2B\, 86316 Friedberg\, Deutschland
END:VEVENT
BEGIN:VEVENT
DTSTART;TZID=Europe/Berlin:20240304T080000
DTEND;TZID=Europe/Berlin:20240304T120000
DTSTAMP:20260424T162027
CREATED:20240125T104748Z
LAST-MODIFIED:20240304T104416Z
UID:9220-1709539200-1709553600@wirsindfriedberg.de
SUMMARY:🚐 Pilot Bürgerbus Ried mit OEK Bachern (Lebensmittel\, Post\, Bank\, Arzt\, Weißwurst)
DESCRIPTION:https://goo.gl/maps/X7Prisw2GQKCUiRo9
URL:https://wirsindfriedberg.de/veranstaltungen/%f0%9f%9a%90-pilot-buergerbus-ried-mit-oek-bachern-lebensmittel-post-bank-arzt-weisswurst-15
LOCATION:Dorfplatz Bürgerbus Ried (mit Bachern)\, Georgstraße\, 86316 Friedberg\, Deutschland
END:VEVENT
BEGIN:VEVENT
DTSTART;TZID=Europe/Berlin:20240304T083000
DTEND;TZID=Europe/Berlin:20240304T163000
DTSTAMP:20260424T162027
CREATED:20240123T104445Z
LAST-MODIFIED:20240304T104416Z
UID:9084-1709541000-1709569800@wirsindfriedberg.de
SUMMARY:🚐 Nachbarschaftshilfe Fahrdienst BEATE Bürgernetz Friedberg (Begleitete Einkaufsfahrten\, Arztbesuche und Termine mit dem Fahrdienst im Ehrenamt)
DESCRIPTION:http://www.buergernetz-friedberg.de
URL:https://wirsindfriedberg.de/veranstaltungen/%f0%9f%9a%90-nachbarschaftshilfe-fahrdienst-beate-buergernetz-friedberg-begleitete-einkaufsfahrten-arztbesuche-und-termine-mit-dem-fahrdienst-im-ehrenamt-36
LOCATION:Bürgernetz Friedberg\, Bahnhofstraße 28\, 86316 Friedberg\, Deutschland
END:VEVENT
BEGIN:VEVENT
DTSTART;TZID=Europe/Berlin:20240304T084500
DTEND;TZID=Europe/Berlin:20240304T094500
DTSTAMP:20260424T162027
CREATED:20240123T104444Z
LAST-MODIFIED:20240303T104541Z
UID:9083-1709541900-1709545500@wirsindfriedberg.de
SUMMARY:📅 DIGITALE SPRECHSTUNDE Bürgernetz Friedberg Services (Senioren)
DESCRIPTION:http://www.buergernetz-friedberg.de
URL:https://wirsindfriedberg.de/veranstaltungen/%f0%9f%9a%90-digitale-sprechstunde-buergernetz-friedberg-services-senioren-8
LOCATION:Bürgernetz Friedberg\, Bahnhofstraße 28\, 86316 Friedberg\, Deutschland
END:VEVENT
END:VCALENDAR