BEGIN:VCALENDAR
VERSION:2.0
PRODID:-//WIR sind Friedberg i.G. | aus der Stadt für die Stadt &amp; von Bürgerschaft mit Organisationen - ECPv6.15.20//NONSGML v1.0//EN
CALSCALE:GREGORIAN
METHOD:PUBLISH
X-WR-CALNAME:WIR sind Friedberg i.G. | aus der Stadt für die Stadt &amp; von Bürgerschaft mit Organisationen
X-ORIGINAL-URL:https://wirsindfriedberg.de
X-WR-CALDESC:Veranstaltungen für WIR sind Friedberg i.G. | aus der Stadt für die Stadt &amp; von Bürgerschaft mit Organisationen
REFRESH-INTERVAL;VALUE=DURATION:PT1H
X-Robots-Tag:noindex
X-PUBLISHED-TTL:PT1H
BEGIN:VTIMEZONE
TZID:Europe/Berlin
BEGIN:DAYLIGHT
TZOFFSETFROM:+0100
TZOFFSETTO:+0200
TZNAME:CEST
DTSTART:20230326T010000
END:DAYLIGHT
BEGIN:STANDARD
TZOFFSETFROM:+0200
TZOFFSETTO:+0100
TZNAME:CET
DTSTART:20231029T010000
END:STANDARD
BEGIN:DAYLIGHT
TZOFFSETFROM:+0100
TZOFFSETTO:+0200
TZNAME:CEST
DTSTART:20240331T010000
END:DAYLIGHT
BEGIN:STANDARD
TZOFFSETFROM:+0200
TZOFFSETTO:+0100
TZNAME:CET
DTSTART:20241027T010000
END:STANDARD
BEGIN:DAYLIGHT
TZOFFSETFROM:+0100
TZOFFSETTO:+0200
TZNAME:CEST
DTSTART:20250330T010000
END:DAYLIGHT
BEGIN:STANDARD
TZOFFSETFROM:+0200
TZOFFSETTO:+0100
TZNAME:CET
DTSTART:20251026T010000
END:STANDARD
END:VTIMEZONE
BEGIN:VEVENT
DTSTART;TZID=Europe/Berlin:20240501T000000
DTEND;TZID=Europe/Berlin:20240501T235959
DTSTAMP:20260424T104153
CREATED:20240321T111436Z
LAST-MODIFIED:20240501T134407Z
UID:10324-1714521600-1714607999@wirsindfriedberg.de
SUMMARY:📰 Anmeldung OEK Bachern E-Mail Verteiler Newsletter (Bürgerbeteiligung)
DESCRIPTION:http://email.friedberg-bachern.de
URL:https://wirsindfriedberg.de/veranstaltungen/%f0%9f%93%b0-anmeldung-oek-bachern-e-mail-verteiler-newsletter-buergerbeteiligung-16
LOCATION:Ortsteil Bachern – Stadt Friedberg in Bayern\, Georgstraße\, 86316 Friedberg\, Deutschland
END:VEVENT
BEGIN:VEVENT
DTSTART;TZID=Europe/Berlin:20240501T000000
DTEND;TZID=Europe/Berlin:20240501T235959
DTSTAMP:20260424T104153
CREATED:20240321T111436Z
LAST-MODIFIED:20240501T134407Z
UID:10325-1714521600-1714607999@wirsindfriedberg.de
SUMMARY:📅 Helferkreis OEK Bachern Termine der Vereine (Bachern & Rohrbach)
DESCRIPTION:http://termine.friedberg-bachern.de
URL:https://wirsindfriedberg.de/veranstaltungen/%f0%9f%93%85-helferkreis-oek-bachern-termine-der-vereine-bachern-rohrbach-4
LOCATION:Ortsteil Bachern – Stadt Friedberg in Bayern\, Georgstraße\, 86316 Friedberg\, Deutschland
END:VEVENT
BEGIN:VEVENT
DTSTART;TZID=Europe/Berlin:20240501T071500
DTEND;TZID=Europe/Berlin:20240501T153000
DTSTAMP:20260424T104153
CREATED:20240322T111532Z
LAST-MODIFIED:20240430T134414Z
UID:10347-1714547700-1714577400@wirsindfriedberg.de
SUMMARY:🧒 Kindergarten Betreuung & Spielgruppen Bachern (Kinderangebote)
DESCRIPTION:https://www.pfarreiengemeinschaft-ottmaring.de/haus-des-kindes-st-hedwig/
URL:https://wirsindfriedberg.de/veranstaltungen/%f0%9f%a7%92-kindergarten-betreuung-spielgruppen-bachern-kinderangebote-18
LOCATION:Kindergarten St. Hedwig Bachern\, Steckstraße 2B\, 86316 Friedberg\, Deutschland
END:VEVENT
BEGIN:VEVENT
DTSTART;TZID=Europe/Berlin:20240501T083000
DTEND;TZID=Europe/Berlin:20240501T163000
DTSTAMP:20260424T104153
CREATED:20240322T111531Z
LAST-MODIFIED:20240501T134407Z
UID:10344-1714552200-1714581000@wirsindfriedberg.de
SUMMARY:🚐 Nachbarschaftshilfe Fahrdienst BEATE Bürgernetz Friedberg (Begleitete Einkaufsfahrten\, Arztbesuche und Termine mit dem Fahrdienst im Ehrenamt)
DESCRIPTION:http://www.buergernetz-friedberg.de
URL:https://wirsindfriedberg.de/veranstaltungen/%f0%9f%9a%90-nachbarschaftshilfe-fahrdienst-beate-buergernetz-friedberg-begleitete-einkaufsfahrten-arztbesuche-und-termine-mit-dem-fahrdienst-im-ehrenamt-78
LOCATION:Bürgernetz Friedberg\, Bahnhofstraße 28\, 86316 Friedberg\, Deutschland
END:VEVENT
BEGIN:VEVENT
DTSTART;TZID=Europe/Berlin:20240501T090000
DTEND;TZID=Europe/Berlin:20240501T220000
DTSTAMP:20260424T104153
CREATED:20240322T111531Z
LAST-MODIFIED:20240501T134407Z
UID:10345-1714554000-1714600800@wirsindfriedberg.de
SUMMARY:🧒 Kurse- und Hallenbelegungsplan SFB Sport-Freunde Bachern e.V. (Jung & Alt)
DESCRIPTION:https://www.sfbachern.de/mein-verein/breitensport/
URL:https://wirsindfriedberg.de/veranstaltungen/%f0%9f%a7%92-kurse-und-hallenbelegungsplan-sfb-sport-freunde-bachern-e-v-jung-alt-8
LOCATION:Sport-Freunde Bachern e.V.\, Asbacher Str. 11\, 86316 Friedberg\, Deutschland
END:VEVENT
BEGIN:VEVENT
DTSTART;TZID=Europe/Berlin:20240501T140000
DTEND;TZID=Europe/Berlin:20240501T160000
DTSTAMP:20260424T104153
CREATED:20240322T111532Z
LAST-MODIFIED:20240501T134407Z
UID:10346-1714572000-1714579200@wirsindfriedberg.de
SUMMARY:📅 CAFÉ Bürgernetz Friedberg Services (Senioren)
DESCRIPTION:http://www.buergernetz-friedberg.de
URL:https://wirsindfriedberg.de/veranstaltungen/%f0%9f%93%85-cafe-buergernetz-friedberg-services-senioren-9
LOCATION:Bürgernetz Friedberg\, Bahnhofstraße 28\, 86316 Friedberg\, Deutschland
END:VEVENT
BEGIN:VEVENT
DTSTART;TZID=Europe/Berlin:20240501T163000
DTEND;TZID=Europe/Berlin:20240501T180000
DTSTAMP:20260424T104153
CREATED:20240323T113055Z
LAST-MODIFIED:20240501T134418Z
UID:10355-1714581000-1714586400@wirsindfriedberg.de
SUMMARY:📅 BERATUNGSTHEKE "DIGITAL ZUSAMMEN" Bürgernetz Friedberg Services (Senioren)
DESCRIPTION:http://www.buergernetz-friedberg.de
URL:https://wirsindfriedberg.de/veranstaltungen/%f0%9f%93%85-beratungstheke-digital-zusammen-buergernetz-friedberg-services-senioren-9
LOCATION:Bürgernetz Friedberg\, Bahnhofstraße 28\, 86316 Friedberg\, Deutschland
END:VEVENT
BEGIN:VEVENT
DTSTART;TZID=Europe/Berlin:20240501T193000
DTEND;TZID=Europe/Berlin:20240501T210000
DTSTAMP:20260424T104153
CREATED:20240322T111532Z
LAST-MODIFIED:20240501T134407Z
UID:10348-1714591800-1714597200@wirsindfriedberg.de
SUMMARY:📅 Arbeitskreistreffen OEK Bachern & Eisenbachtal (Jung & Alt)
DESCRIPTION:http://www.wirsindbachern.de
URL:https://wirsindfriedberg.de/veranstaltungen/%f0%9f%93%85-arbeitskreistreffen-oek-bachern-eisenbachtal-jung-alt-14
LOCATION:Restaurant Aphrodite | Wirtshaus am Hochberg Bachern\, Asbacher Str. 11\, 86316 Friedberg\, Deutschland
END:VEVENT
BEGIN:VEVENT
DTSTART;TZID=Europe/Berlin:20240502T000000
DTEND;TZID=Europe/Berlin:20240502T235959
DTSTAMP:20260424T104153
CREATED:20240323T113055Z
LAST-MODIFIED:20240502T134657Z
UID:10357-1714608000-1714694399@wirsindfriedberg.de
SUMMARY:📅 Helferkreis OEK Bachern IT-Support (Eisenbachtal)
DESCRIPTION:http://faq.friedberg-bachern.de
URL:https://wirsindfriedberg.de/veranstaltungen/%f0%9f%93%85-helferkreis-oek-bachern-it-support-eisenbachtal-9
LOCATION:Ortsteil Bachern – Stadt Friedberg in Bayern\, Georgstraße\, 86316 Friedberg\, Deutschland
END:VEVENT
BEGIN:VEVENT
DTSTART;TZID=Europe/Berlin:20240502T000000
DTEND;TZID=Europe/Berlin:20240502T235959
DTSTAMP:20260424T104153
CREATED:20240323T113055Z
LAST-MODIFIED:20240502T134657Z
UID:10358-1714608000-1714694399@wirsindfriedberg.de
SUMMARY:📅 Helferkreis OEK Bachern Katastrophenschutz (Eisenbachtal)
DESCRIPTION:https://lra-aic-fdb.de/aktuelles/katastrophenschutz/
URL:https://wirsindfriedberg.de/veranstaltungen/%f0%9f%93%85-helferkreis-oek-bachern-katastrophenschutz-eisenbachtal-9
LOCATION:Landratsamt Aichach-Friedberg\, Münchener Str. 9\, 86551 Aichach\, Deutschland
END:VEVENT
BEGIN:VEVENT
DTSTART;TZID=Europe/Berlin:20240502T071500
DTEND;TZID=Europe/Berlin:20240502T153000
DTSTAMP:20260424T104153
CREATED:20240323T113056Z
LAST-MODIFIED:20240501T134418Z
UID:10362-1714634100-1714663800@wirsindfriedberg.de
SUMMARY:🧒 Kindergarten Betreuung & Spielgruppen Bachern (Kinderangebote)
DESCRIPTION:https://www.pfarreiengemeinschaft-ottmaring.de/haus-des-kindes-st-hedwig/
URL:https://wirsindfriedberg.de/veranstaltungen/%f0%9f%a7%92-kindergarten-betreuung-spielgruppen-bachern-kinderangebote-19
LOCATION:Kindergarten St. Hedwig Bachern\, Steckstraße 2B\, 86316 Friedberg\, Deutschland
END:VEVENT
BEGIN:VEVENT
DTSTART;TZID=Europe/Berlin:20240502T080000
DTEND;TZID=Europe/Berlin:20240502T120000
DTSTAMP:20260424T104153
CREATED:20240323T113056Z
LAST-MODIFIED:20240501T134407Z
UID:10363-1714636800-1714651200@wirsindfriedberg.de
SUMMARY:🚐 Pilot Bürgerbus Ried mit OEK Bachern (Lebensmittel\, Post\, Bank\, Arzt\, Weißwurst)
DESCRIPTION:https://goo.gl/maps/X7Prisw2GQKCUiRo9
URL:https://wirsindfriedberg.de/veranstaltungen/%f0%9f%9a%90-pilot-buergerbus-ried-mit-oek-bachern-lebensmittel-post-bank-arzt-weisswurst-32
LOCATION:Dorfplatz Bürgerbus Ried (mit Bachern)\, Georgstraße\, 86316 Friedberg\, Deutschland
END:VEVENT
BEGIN:VEVENT
DTSTART;TZID=Europe/Berlin:20240502T083000
DTEND;TZID=Europe/Berlin:20240502T163000
DTSTAMP:20260424T104153
CREATED:20240324T113009Z
LAST-MODIFIED:20240502T134657Z
UID:10373-1714638600-1714667400@wirsindfriedberg.de
SUMMARY:🚐 Nachbarschaftshilfe Fahrdienst BEATE Bürgernetz Friedberg (Begleitete Einkaufsfahrten\, Arztbesuche und Termine mit dem Fahrdienst im Ehrenamt)
DESCRIPTION:http://www.buergernetz-friedberg.de
URL:https://wirsindfriedberg.de/veranstaltungen/%f0%9f%9a%90-nachbarschaftshilfe-fahrdienst-beate-buergernetz-friedberg-begleitete-einkaufsfahrten-arztbesuche-und-termine-mit-dem-fahrdienst-im-ehrenamt-79
LOCATION:Bürgernetz Friedberg\, Bahnhofstraße 28\, 86316 Friedberg\, Deutschland
END:VEVENT
BEGIN:VEVENT
DTSTART;TZID=Europe/Berlin:20240502T120000
DTEND;TZID=Europe/Berlin:20240502T130000
DTSTAMP:20260424T104153
CREATED:20240323T113056Z
LAST-MODIFIED:20240501T134407Z
UID:10364-1714651200-1714654800@wirsindfriedberg.de
SUMMARY:📅 MITTAGSTISCH Bürgernetz Friedberg Services (Senioren)
DESCRIPTION:http://www.buergernetz-friedberg.de
URL:https://wirsindfriedberg.de/veranstaltungen/%f0%9f%93%85-mittagstisch-buergernetz-friedberg-services-senioren-9
LOCATION:Bürgernetz Friedberg\, Bahnhofstraße 28\, 86316 Friedberg\, Deutschland
END:VEVENT
BEGIN:VEVENT
DTSTART;TZID=Europe/Berlin:20240502T140000
DTEND;TZID=Europe/Berlin:20240502T160000
DTSTAMP:20260424T104153
CREATED:20240323T113056Z
LAST-MODIFIED:20240502T134656Z
UID:10365-1714658400-1714665600@wirsindfriedberg.de
SUMMARY:📅 REPAIR CAFÉ Bürgernetz Friedberg Services (Jung & Alt)
DESCRIPTION:http://www.buergernetz-friedberg.de
URL:https://wirsindfriedberg.de/veranstaltungen/%f0%9f%93%85-repair-cafe-buergernetz-friedberg-services-jung-alt-9
LOCATION:Bürgernetz Friedberg\, Bahnhofstraße 28\, 86316 Friedberg\, Deutschland
END:VEVENT
BEGIN:VEVENT
DTSTART;TZID=Europe/Berlin:20240502T190000
DTEND;TZID=Europe/Berlin:20240502T220000
DTSTAMP:20260424T104153
CREATED:20240324T113009Z
LAST-MODIFIED:20240502T134657Z
UID:10375-1714676400-1714687200@wirsindfriedberg.de
SUMMARY:🏢 Beirat Friedberg & Aichach (Wittelsbacher Land)
DESCRIPTION:https://info.lra-aic-fdb.de/buergerinfo/info.php
URL:https://wirsindfriedberg.de/veranstaltungen/%f0%9f%8f%a2-beirat-friedberg-aichach-wittelsbacher-land-16
LOCATION:Landratsamt Aichach-Friedberg\, Münchener Str. 9\, 86551 Aichach\, Deutschland
END:VEVENT
BEGIN:VEVENT
DTSTART;TZID=Europe/Berlin:20240502T190000
DTEND;TZID=Europe/Berlin:20240502T220000
DTSTAMP:20260424T104153
CREATED:20240324T113009Z
LAST-MODIFIED:20240502T134657Z
UID:10374-1714676400-1714687200@wirsindfriedberg.de
SUMMARY:🏢 Stadtrat Friedberg (Eisenbachtal & Paartal)
DESCRIPTION:https://buergerinfo-friedberg.livingdata.de/info.asp?smcnavgroup=0
URL:https://wirsindfriedberg.de/veranstaltungen/%f0%9f%8f%a2-stadtrat-friedberg-eisenbachtal-paartal-16
LOCATION:Rathaus\, Marienpl. 1\, 86316 Friedberg\, Deutschland
END:VEVENT
BEGIN:VEVENT
DTSTART;TZID=Europe/Berlin:20240503T000000
DTEND;TZID=Europe/Berlin:20240503T235959
DTSTAMP:20260424T104153
CREATED:20240324T113010Z
LAST-MODIFIED:20240503T140051Z
UID:10378-1714694400-1714780799@wirsindfriedberg.de
SUMMARY:📰 Feedback OEK Bachern Auswertungen (Bürgerbeteiligung)
DESCRIPTION:http://kpi.friedberg-bachern.de
URL:https://wirsindfriedberg.de/veranstaltungen/%f0%9f%93%b0-feedback-oek-bachern-auswertungen-buergerbeteiligung-16
LOCATION:Ortsteil Bachern – Stadt Friedberg in Bayern\, Georgstraße\, 86316 Friedberg\, Deutschland
END:VEVENT
BEGIN:VEVENT
DTSTART;TZID=Europe/Berlin:20240503T000000
DTEND;TZID=Europe/Berlin:20240503T235959
DTSTAMP:20260424T104153
CREATED:20240325T112946Z
LAST-MODIFIED:20240503T140051Z
UID:10388-1714694400-1714780799@wirsindfriedberg.de
SUMMARY:📰 Review OEK Bachern Konzeptentwurf (Bürgerbeteiligung)
DESCRIPTION:http://oek.friedberg-bachern.de
URL:https://wirsindfriedberg.de/veranstaltungen/%f0%9f%93%b0-review-oek-bachern-konzeptentwurf-buergerbeteiligung-16
LOCATION:Ortsteil Bachern – Stadt Friedberg in Bayern\, Georgstraße\, 86316 Friedberg\, Deutschland
END:VEVENT
BEGIN:VEVENT
DTSTART;TZID=Europe/Berlin:20240503T071500
DTEND;TZID=Europe/Berlin:20240503T153000
DTSTAMP:20260424T104153
CREATED:20240324T113010Z
LAST-MODIFIED:20240502T134657Z
UID:10379-1714720500-1714750200@wirsindfriedberg.de
SUMMARY:🧒 Kindergarten Betreuung & Spielgruppen Bachern (Kinderangebote)
DESCRIPTION:https://www.pfarreiengemeinschaft-ottmaring.de/haus-des-kindes-st-hedwig/
URL:https://wirsindfriedberg.de/veranstaltungen/%f0%9f%a7%92-kindergarten-betreuung-spielgruppen-bachern-kinderangebote-20
LOCATION:Kindergarten St. Hedwig Bachern\, Steckstraße 2B\, 86316 Friedberg\, Deutschland
END:VEVENT
BEGIN:VEVENT
DTSTART;TZID=Europe/Berlin:20240503T083000
DTEND;TZID=Europe/Berlin:20240503T163000
DTSTAMP:20260424T104153
CREATED:20240324T113009Z
LAST-MODIFIED:20240503T140051Z
UID:10377-1714725000-1714753800@wirsindfriedberg.de
SUMMARY:🚐 Nachbarschaftshilfe Fahrdienst BEATE Bürgernetz Friedberg (Begleitete Einkaufsfahrten\, Arztbesuche und Termine mit dem Fahrdienst im Ehrenamt)
DESCRIPTION:http://www.buergernetz-friedberg.de
URL:https://wirsindfriedberg.de/veranstaltungen/%f0%9f%9a%90-nachbarschaftshilfe-fahrdienst-beate-buergernetz-friedberg-begleitete-einkaufsfahrten-arztbesuche-und-termine-mit-dem-fahrdienst-im-ehrenamt-80
LOCATION:Bürgernetz Friedberg\, Bahnhofstraße 28\, 86316 Friedberg\, Deutschland
END:VEVENT
BEGIN:VEVENT
DTSTART;TZID=Europe/Berlin:20240503T183000
DTEND;TZID=Europe/Berlin:20240503T220000
DTSTAMP:20260424T104153
CREATED:20240324T113010Z
LAST-MODIFIED:20240503T140051Z
UID:10381-1714761000-1714773600@wirsindfriedberg.de
SUMMARY:🏅 Übungsschießen SGB Schützengemeinschaft Bachern e.V. (Jung & Alt)
DESCRIPTION:http://www.schuetzengemeinschaft-bachern.de
URL:https://wirsindfriedberg.de/veranstaltungen/%f0%9f%8f%85-uebungsschiessen-sgb-schuetzengemeinschaft-bachern-e-v-jung-alt-9
LOCATION:Schützengemeinschaft Bachern e.V.\, Asbacher Str. 11\, 86316 Friedberg\, Deutschland
END:VEVENT
BEGIN:VEVENT
DTSTART;TZID=Europe/Berlin:20240503T193000
DTEND;TZID=Europe/Berlin:20240503T210000
DTSTAMP:20260424T104153
CREATED:20240324T113010Z
LAST-MODIFIED:20240503T140051Z
UID:10380-1714764600-1714770000@wirsindfriedberg.de
SUMMARY:📅 Dorfstammtischtreffen OEK Bachern & Eisenbachtal (Jung & Alt)
DESCRIPTION:http://www.wirsindbachern.de
URL:https://wirsindfriedberg.de/veranstaltungen/%f0%9f%93%85-dorfstammtischtreffen-oek-bachern-eisenbachtal-jung-alt-14
LOCATION:Restaurant Aphrodite | Wirtshaus am Hochberg Bachern\, Asbacher Str. 11\, 86316 Friedberg\, Deutschland
END:VEVENT
BEGIN:VEVENT
DTSTART;TZID=Europe/Berlin:20240503T193000
DTEND;TZID=Europe/Berlin:20240503T220000
DTSTAMP:20260424T104153
CREATED:20240325T112947Z
LAST-MODIFIED:20240503T140051Z
UID:10391-1714764600-1714773600@wirsindfriedberg.de
SUMMARY:🚒 Übungen Plan FFWB Freiwillige Feuerwehr Bachern e.V. (Jung & Alt)
DESCRIPTION:http://www.ffw-bachern.de
URL:https://wirsindfriedberg.de/veranstaltungen/%f0%9f%9a%92-uebungen-plan-ffwb-freiwillige-feuerwehr-bachern-e-v-jung-alt-9
LOCATION:Freiwillige Feuerwehr Bachern\, Neuer Postweg 1\, 86316 Friedberg\, Deutschland
END:VEVENT
BEGIN:VEVENT
DTSTART;TZID=Europe/Berlin:20240504T000000
DTEND;TZID=Europe/Berlin:20240504T235959
DTSTAMP:20260424T104153
CREATED:20240325T112947Z
LAST-MODIFIED:20240504T140221Z
UID:10395-1714780800-1714867199@wirsindfriedberg.de
SUMMARY:Biotonne in Friedberg
DESCRIPTION:
URL:https://wirsindfriedberg.de/veranstaltungen/biotonne-in-friedberg-8
LOCATION:Friedberg; Neuer Postweg
END:VEVENT
BEGIN:VEVENT
DTSTART;TZID=Europe/Berlin:20240504T000000
DTEND;TZID=Europe/Berlin:20240504T235959
DTSTAMP:20260424T104153
CREATED:20240326T112957Z
LAST-MODIFIED:20240504T140221Z
UID:10403-1714780800-1714867199@wirsindfriedberg.de
SUMMARY:📅 Arbeitskreis Region OEK Eisenbachtal #Gern Dahoam (Jung & Alt)
DESCRIPTION:http://www.eisenbachtal.info
URL:https://wirsindfriedberg.de/veranstaltungen/%f0%9f%93%85-arbeitskreis-region-oek-eisenbachtal-gern-dahoam-jung-alt-9
LOCATION:Bürgerinitiative & Förderverein Erlauholz & Eisenbach Tal i.G.\, Neuer Postweg\, 86316 Friedberg\, Deutschland
END:VEVENT
BEGIN:VEVENT
DTSTART;TZID=Europe/Berlin:20240504T000000
DTEND;TZID=Europe/Berlin:20240504T235959
DTSTAMP:20260424T104153
CREATED:20240326T112958Z
LAST-MODIFIED:20240504T140221Z
UID:10409-1714780800-1714867199@wirsindfriedberg.de
SUMMARY:📅 Arbeitskreis Region OEK Erlauholz #Initiative Rückenwind (Jung & Alt)
DESCRIPTION:http://www.erlauholz.de
URL:https://wirsindfriedberg.de/veranstaltungen/%f0%9f%93%85-arbeitskreis-region-oek-erlauholz-initiative-rueckenwind-jung-alt-9
LOCATION:Bürgerinitiative Rückenwind fürs Erlauholz e.V.\, St2379\, 86316 Friedberg\, Deutschland
END:VEVENT
BEGIN:VEVENT
DTSTART;TZID=Europe/Berlin:20240504T080000
DTEND;TZID=Europe/Berlin:20240504T200000
DTSTAMP:20260424T104153
CREATED:20240325T112947Z
LAST-MODIFIED:20240504T140221Z
UID:10393-1714809600-1714852800@wirsindfriedberg.de
SUMMARY:🍲 Dorfplatz Dorfladenbox Eisenbachtal (regionale Produkte & Services)
DESCRIPTION:http://dorfladenbox.friedberg-bachern.de
URL:https://wirsindfriedberg.de/veranstaltungen/%f0%9f%8d%b2-dorfplatz-dorfladenbox-eisenbachtal-regionale-produkte-services-9
LOCATION:Dorfplatz Dorfladenbox (Automat) Bachern\, Neuer Postweg\, 86316 Friedberg\, Deutschland
END:VEVENT
BEGIN:VEVENT
DTSTART;TZID=Europe/Berlin:20240504T100000
DTEND;TZID=Europe/Berlin:20240504T150000
DTSTAMP:20260424T104153
CREATED:20240325T112947Z
LAST-MODIFIED:20240503T140104Z
UID:10396-1714816800-1714834800@wirsindfriedberg.de
SUMMARY:📅 Event Dorfflohmarkt mit Food-To-Go im Eisenbachtal (Ried\, Bachern\, Rohrbach)
DESCRIPTION:http://dorfflohmarkt.friedberg-bachern.de
URL:https://wirsindfriedberg.de/veranstaltungen/%f0%9f%93%85-event-dorfflohmarkt-mit-food-to-go-im-eisenbachtal-ried-bachern-rohrbach-16
LOCATION:Dorfflohmarkt & Food-to-Go Selling Lovers & OEK Arbeitskreis Bachern Eisenbachtal\, Neuer Postweg\, 86316 Friedberg\, Deutschland
END:VEVENT
BEGIN:VEVENT
DTSTART;TZID=Europe/Berlin:20240504T140000
DTEND;TZID=Europe/Berlin:20240504T150000
DTSTAMP:20260424T104153
CREATED:20240325T112948Z
LAST-MODIFIED:20240503T140051Z
UID:10397-1714831200-1714834800@wirsindfriedberg.de
SUMMARY:📅 Jahresprogramm OGV Obst- und Gartenbauverein Bachern-Rohrbach e.V. (Jung & Alt)
DESCRIPTION:http://ogv.friedberg-bachern.de/
URL:https://wirsindfriedberg.de/veranstaltungen/%f0%9f%93%85-jahresprogramm-ogv-obst-und-gartenbauverein-bachern-rohrbach-e-v-jung-alt-3
LOCATION:Obst- und Gartenbauverein Bachern-Rohrbach e. V.\, Gastlstraße\, 86316 Friedberg\, Deutschland
END:VEVENT
END:VCALENDAR